Workbook
Name DATA_STATEMENT_II: StatementII!$E$9:$N$22,StatementII!$E$24:$N$30,StatementII!$E$32:$N$40,StatementII!$E$42:$N$43
Name DATA_TABLE_1: Table1!$E$8:$N$89,Table1!$E$92:$M$93,Table1!$E$95:$N$100,Table1!$N$92:$N$93,Table1!$E$102:$N$107,Table1!$E$109:$N$114
Name DATA_TABLE_2: Table2!$E$8:$N$53,Table2!$E$56:$N$57,Table2!$E$59:$N$66,Table2!$E$68:$N$73,Table2!$E$75:$N$80
Name DATA_TABLE_3: Table3!$E$8:$N$79,Table3!$E$81:$N$99
Name DATA_TABLE_4: Table4!$E$8:$N$35,Table4!$E$37:$N$41
Name DATA_TABLE_5: Table5!$E$8:$N$35,Table5!$E$37:$N$41
Name DATA_TABLE_6: Table6!$E$8:$N$31,Table6!$E$33:$N$79,Table6!$E$81:$N$81,Table6!$E$83:$N$101,Table6!$E$103:$N$106,Table6!$E$108:$N$115
Name DATA_TABLE_6A: #REF!,#REF!,#REF!,#REF!,#REF!
Name DATA_TABLE_6B: Table6B!$E$8:$N$8,Table6B!$E$10:$N$10,Table6B!$E$13:$N$13,Table6B!$E$15:$N$15,Table6B!$E$17:$N$71
Name DATA_TABLE_7: Table7!$E$8:$N$87
Name DATA_TABLE_8A: #REF!,#REF!,#REF!,#REF!
Name DATA_TABLE_8B: #REF!,#REF!,#REF!,#REF!
Name DATA_TABLE_9: Table9!$E$8:$N$35,Table9!$E$37:$N$41
Name METADATA_COVERPAGE_1: Coverpage!$I$11:$I$12,Coverpage!$I$14:$I$15,Coverpage!$I$17:$I$22
Name METADATA_COVERPAGE_2: Coverpage!$I$27:$P$35
Name Print_Area_0: Annex1!$P$1:$X$154
Name Print_Area_0: Annex2!$A$1:$E$98
Name Print_Area_0: 'Cash Data Checks Report'!$A$1:$O$46
Name Print_Area_0: Coverpage!$A$1:$S$41
Name Print_Area_0: 'OtherThanCashData Checks Report'!$A$1:$O$46
Name Print_Area_0: StatementI!$A$1:$M$45
Name Print_Area_0: StatementII!$B$1:$N$43
Name Print_Area_0: StatementIII!$A$1:$M$37
Name Print_Area_0: StatementIV!$A$1:$M$25
Name Print_Area_0: Table1!$B$1:$N$114
Name Print_Area_0: Table2!$B$1:$N$80
Name Print_Area_0: Table3!$B$1:$N$99
Name Print_Area_0: Table4!$B$1:$N$41
Name Print_Area_0: Table5!$B$1:$N$41
Name Print_Area_0: Table6!$B$1:$N$115
Name Print_Area_0: Table6B!$B$1:$N$71
Name Print_Area_0: Table7!$B$1:$N$88
Name Print_Area_0: Table9!$B$1:$N$41
Name Print_Titles_0: Annex1!$1:$3
Name Print_Titles_0: StatementI!$1:$6
Name Print_Titles_0: StatementII!$1:$7
Name Print_Titles_0: StatementIV!$1:$6
Name Print_Titles_0: Table1!$1:$7
Name Print_Titles_0: Table2!$1:$7
Name Print_Titles_0: Table3!$1:$7
Name Print_Titles_0: Table4!$1:$7
Name Print_Titles_0: Table5!$1:$7
Name Print_Titles_0: Table6!$1:$7
Name Print_Titles_0: Table7!$1:$7
Name Print_Titles_0: Table9!$1:$7
Name Report_Version_Number: 'Report Form'!$A$3
Name Report_Version_Tag: 'Report Form'!$A$1
Name Reporting_Alternate_Sender_Email: Coverpage!$I$21
Name Reporting_Alternate_Sender_Name: Coverpage!$I$20
Name Reporting_Compiling_Organization: Coverpage!$I$17
Name Reporting_Country_Code: Coverpage!$I$9
Name Reporting_Country_Fiscal_End_Day: Coverpage!$I$12
Name Reporting_Country_Fiscal_End_Month: Coverpage!$I$11
Name Reporting_Country_Name: Coverpage!$I$8
Name Reporting_Currency_Blank: Coverpage!$U$14
Name Reporting_Currency_Code: Coverpage!$U$12
Name Reporting_Currency_Name: Coverpage!$I$13
Name Reporting_Date: Coverpage!$I$22
Name Reporting_Period_Code: Coverpage!$I$10
Name Reporting_Period_Std_Code: Coverpage!$U$10

Sheet Coverpage
A1: GFSM2014_V1.5
F3: ЕЖЕГОДНАЯ АНКЕТА СГФ | Z3: Контрольный перечень и основные проверки достоверности
F4: СТАТИСТИЧЕСКИЕ ТАБЛИЦЫ
I6: ALL_SECTORS
H8: Название страны: | I8: Russian Federation
H9: Код страны: | I9: 922 | L9: Основные проверки достоверности пройдены? Да / Нет | W9: Scale
H10: Год: | I10: 2016 | U10: =Reporting_Period_Code&"A1" -> 2016A1 | Z10: Титульная страница заполнена
C11: FISCAL_END_MONTH | H11: Год заканчивается (месяц): | I11: December | L11: =IF(AND(AD12="Yes",AD13="Yes",AD14="Yes",AD11="Yes",AD18="Yes",AD19="Yes",AD20="Yes",AD21="Yes",AD17="Yes",AD27="Yes",AD28="Yes",AD29="Yes",AD30="Yes",AD31="Yes",AD32="Yes",AD33="Yes",AD34="Yes",AD35="Yes",AD36="Yes",AD37="Yes",AD38="Yes",AD26="Yes"),"Да - форма готова к отправке","Нет - просьба проверить правильность заполнения формы") -> #REF! | W11: Thousand | Z11: Заполнено на конец финансового года | AD11: =IF(AND(NOT(ISBLANK(I11)),NOT(ISBLANK(I12))),"Да","Нет") -> Да
C12: FISCAL_END_DAY | H12: Год заканчивается (день): | I12: 31st | U12: XDC | W12: Million | Z12: Включено название валюты | AD12: =IF(I14="","Нет","Да") -> Да
H13: Валюта: | I13: Domestic Currency | W13: Billion | Z13: Указан масштаб | AD13: =IF(I15="","Нет","Да") -> Да
C14: REPORTING_CURRENCY | H14: Название валюты: | I14: Russian Rubles (RUB) | W14: Trillion | Z14: Характер данных и практика учета | AD14: =IF(COUNTBLANK(METADATA_COVERPAGE_2)>0,"Нет","Да") -> Да
C15: REPORTING_SCALE | H15: Масштаб: | I15: Billion | L15: См. подробности справа | Z15: Основные проверки достоверности пройдены
C17: COMPILING_ORG | H17: Организация, составляющая отчетность: | L17: Thousand | M17: Тысяча | W17: Euros | X17: EUR | Z17: Таблица 1 | AD17: =IF(AND(OR(IF(ISNUMBER(Table1!E118),ABS(Table1!E118)<0.05,0),TRIM(Table1!E118)="NA"),OR(IF(ISNUMBER(Table1!F118),ABS(Table1!F118)<0.05,0),TRIM(Table1!F118)="NA"),OR(IF(ISNUMBER(Table1!G118),ABS(Table1!G118)<0.05,0),TRIM(Table1!G118)="NA"),OR(IF(ISNUMBER(Table1!H118),ABS(Table1!H118)<0.05,0),TRIM(Table1!H118)="NA"),OR(IF(ISNUMBER(Table1!I118),ABS(Table1!I118)<0.05,0),TRIM(Table1!I118)="NA"),OR(IF(ISNUMBER(Table1!J118),ABS(Table1!J118)<0.05,0),TRIM(Table1!J118)="NA"),OR(IF(ISNUMBER(Table1!K118),ABS(Table1!K118)<0.05,0),TRIM(Table1!K118)="NA"),OR(IF(ISNUMBER(Table1!L118),ABS(Table1!L118)<0.05,0),TRIM(Table1!L118)="NA"),OR(IF(ISNUMBER(Table1!M118),ABS(Table1!M118)<0.05,0),TRIM(Table1!M118)="NA"),OR(IF(ISNUMBER(Table1!N118),ABS(Table1!N118)<0.05,0),TRIM(Table1!N118)="NA")),"Да","Нет") -> Да
C18: REPORTER_NAME | H18: ФИО отправителя: | L18: Million | M18: Миллион | W18: National Currency | X18: XDC | Z18: Таблица 2 | AD18: =IF(AND(OR(IF(ISNUMBER(Table2!E84),ABS(Table2!E84)<0.05,0),TRIM(Table2!E84)="NA"),OR(IF(ISNUMBER(Table2!F84),ABS(Table2!F84)<0.05,0),TRIM(Table2!F84)="NA"),OR(IF(ISNUMBER(Table2!G84),ABS(Table2!G84)<0.05,0),TRIM(Table2!G84)="NA"),OR(IF(ISNUMBER(Table2!H84),ABS(Table2!H84)<0.05,0),TRIM(Table2!H84)="NA"),OR(IF(ISNUMBER(Table2!I84),ABS(Table2!I84)<0.05,0),TRIM(Table2!I84)="NA"),OR(IF(ISNUMBER(Table2!J84),ABS(Table2!J84)<0.05,0),TRIM(Table2!J84)="NA"),OR(IF(ISNUMBER(Table2!K84),ABS(Table2!K84)<0.05,0),TRIM(Table2!K84)="NA"),OR(IF(ISNUMBER(Table2!L84),ABS(Table2!L84)<0.05,0),TRIM(Table2!L84)="NA"),OR(IF(ISNUMBER(Table2!M84),ABS(Table2!M84)<0.05,0),TRIM(Table2!M84)="NA"),OR(IF(ISNUMBER(Table2!N84),ABS(Table2!N84)<0.05,0),TRIM(Table2!N84)="NA")),"Да","Нет") -> Да
C19: REPORTER_EMAIL | H19: Адрес электронной почты отправителя: | L19: Billion | M19: миллиард | W19: US Dollars | X19: USD | Z19: Таблица 3 | AD19: =IF(AND(OR(IF(ISNUMBER(Table3!E103),ABS(Table3!E103)<0.05,0),TRIM(Table3!E103)="NA"),OR(IF(ISNUMBER(Table3!F103),ABS(Table3!F103)<0.05,0),TRIM(Table3!F103)="NA"),OR(IF(ISNUMBER(Table3!G103),ABS(Table3!G103)<0.05,0),TRIM(Table3!G103)="NA"),OR(IF(ISNUMBER(Table3!H103),ABS(Table3!H103)<0.05,0),TRIM(Table3!H103)="NA"),OR(IF(ISNUMBER(Table3!I103),ABS(Table3!I103)<0.05,0),TRIM(Table3!I103)="NA"),OR(IF(ISNUMBER(Table3!J103),ABS(Table3!J103)<0.05,0),TRIM(Table3!J103)="NA"),OR(IF(ISNUMBER(Table3!K103),ABS(Table3!K103)<0.05,0),TRIM(Table3!K103)="NA"),OR(IF(ISNUMBER(Table3!L103),ABS(Table3!L103)<0.05,0),TRIM(Table3!L103)="NA"),OR(IF(ISNUMBER(Table3!M103),ABS(Table3!M103)<0.05,0),TRIM(Table3!M103)="NA"),OR(IF(ISNUMBER(Table3!N103),ABS(Table3!N103)<0.05,0),TRIM(Table3!N103)="NA")),"Да","Нет") -> Да
C20: REPORTER_ALT_NAME | H20: ФИО замещающего контактного лица: | L20: Trillion | M20: триллион | Z20: Таблица 6 | AD20: =IF(AND(OR(IF(ISNUMBER(Table6!E119),ABS(Table6!E119)<0.05,0),TRIM(Table6!E119)="NA"),OR(IF(ISNUMBER(Table6!F119),ABS(Table6!F119)<0.05,0),TRIM(Table6!F119)="NA"),OR(IF(ISNUMBER(Table6!G119),ABS(Table6!G119)<0.05,0),TRIM(Table6!G119)="NA"),OR(IF(ISNUMBER(Table6!H119),ABS(Table6!H119)<0.05,0),TRIM(Table6!H119)="NA"),OR(IF(ISNUMBER(Table6!I119),ABS(Table6!I119)<0.05,0),TRIM(Table6!I119)="NA"),OR(IF(ISNUMBER(Table6!J119),ABS(Table6!J119)<0.05,0),TRIM(Table6!J119)="NA"),OR(IF(ISNUMBER(Table6!K119),ABS(Table6!K119)<0.05,0),TRIM(Table6!K119)="NA"),OR(IF(ISNUMBER(Table6!L119),ABS(Table6!L119)<0.05,0),TRIM(Table6!L119)="NA"),OR(IF(ISNUMBER(Table6!M119),ABS(Table6!M119)<0.05,0),TRIM(Table6!M119)="NA"),OR(IF(ISNUMBER(Table6!N119),ABS(Table6!N119)<0.05,0),TRIM(Table6!N119)="NA")),"Да","Нет") -> Да
C21: REPORTER_ALT_EMAIL | H21: Адрес эл. почты замещающего лица: | W21: Year ending | Z21: Таблица 7 | AD21: =IF(AND(OR(IF(ISNUMBER(Table7!E92),ABS(Table7!E92)<0.05,0),TRIM(Table7!E92)="NA"),OR(IF(ISNUMBER(Table7!F92),ABS(Table7!F92)<0.05,0),TRIM(Table7!F92)="NA"),OR(IF(ISNUMBER(Table7!G92),ABS(Table7!G92)<0.05,0),TRIM(Table7!G92)="NA"),OR(IF(ISNUMBER(Table7!H92),ABS(Table7!H92)<0.05,0),TRIM(Table7!H92)="NA"),OR(IF(ISNUMBER(Table7!I92),ABS(Table7!I92)<0.05,0),TRIM(Table7!I92)="NA"),OR(IF(ISNUMBER(Table7!J92),ABS(Table7!J92)<0.05,0),TRIM(Table7!J92)="NA"),OR(IF(ISNUMBER(Table7!K92),ABS(Table7!K92)<0.05,0),TRIM(Table7!K92)="NA"),OR(IF(ISNUMBER(Table7!L92),ABS(Table7!L92)<0.05,0),TRIM(Table7!L92)="NA"),OR(IF(ISNUMBER(Table7!M92),ABS(Table7!M92)<0.05,0),TRIM(Table7!M92)="NA"),OR(IF(ISNUMBER(Table7!N92),ABS(Table7!N92)<0.05,0),TRIM(Table7!N92)="NA")),"Да","Нет") -> Да
C22: SUB_DATE | H22: Дата представления отчетности: | W22: January | X22: 1st
W23: February | X23: 2nd | Z23: Составителей просят заполнить все пустые ячейки в анкете - проставив значение, нуль, н.д. при отсутствии данных или н.п., когда это не применимо (при отсутствии подсектора) - просьба подтвердить, что заполнены все ячейки, используя нижеприведенный контрольный перечень.
D24: Укажите "NA" в случае, если "нет данных"; укажите "NP" в случае, если "не применимо" | I24: Бюджетные единицы центр. правитель-ства | J24: Внебюджет-ные единицы центр. правитель-ства | K24: Центральное правитель-ство | L24: Фонды социального обеспечения | M24: Региональ-ные органы управления | N24: Местные органы управления | O24: Сектор государст-венного управления | P24: Для справки: центр. прав-во (вкл. SSF центр.уровня) | W24: March | X24: 3rd
D25: ХАРАКТЕР ДАННЫХ И ПРАКТИКА УЧЕТА | I25: BCG | J25: EBG | K25: CG | L25: SSG | M25: RG | N25: LG | O25: GG | P25: CG01 | W25: April | X25: 4th
W26: May | X26: 5th | Z26: Отчет II | AD26: =IF(OR(COUNTBLANK(StatementII!E9:M22)>0,COUNTBLANK(StatementII!E24:M30)>0,COUNTBLANK(StatementII!E32:M40)>0),"Нет","Да") -> Да
C27: ALL_REPORTED_INDICATORS_NATURE_OF_DATA | D27: Характер данных | H27: A, P, or E? | I27: A | J27: A | K27: A | L27: A | M27: A | N27: A | O27: A | P27: A | W27: June | X27: 6th | Z27: Таблица 1 | AD27: =IF(COUNTBLANK(Table1!E8:N89)>0,"Нет","Да") -> Да
C28: ALL_TABLE1_REVENUE_INDICATORS | D28: Основа отражения в учете: доходы | H28: CA or AC? | I28: AC | J28: AC | K28: AC | L28: AC | M28: AC | N28: AC | O28: AC | P28: AC | W28: July | X28: 7th | Z28: Таблица 2 | AD28: =IF(COUNTBLANK(Table2!E8:N53)>0,"Нет","Да") -> Да
C29: ALL_TABLE2_EXPENSE_INDICATORS | D29: Основа отражения в учете: расходы | H29: CA or AC? | I29: AC | J29: AC | K29: AC | L29: AC | M29: AC | N29: AC | O29: AC | P29: AC | W29: August | X29: 8th | Z29: Таблица 3 | AD29: =IF(COUNTBLANK(Table3!E8:N99)>0,"Нет","Да") -> Да
C30: ALL_TABLE31_INV_NF_ASSETS_INDICATORS | D30: Основа отражения в учете: инвестиции в нефинансовые активы | H30: CA or AC? | I30: AC | J30: AC | K30: AC | L30: AC | M30: AC | N30: AC | O30: AC | P30: AC | W30: September | X30: 9th | Z30: Таблица 4 | AD30: =IF(COUNTBLANK(Table4!E8:N37)>0,"Нет","Да") -> Да
C31: ALL_TABLE32_33_FIN_TRANS_INDICATORS | D31: Основа отражения в учете: финансовые операции | H31: CA or AC? | I31: AC | J31: AC | K31: AC | L31: AC | M31: AC | N31: AC | O31: AC | P31: AC | W31: October | X31: 10th | Z31: Таблица 5 | AD31: =IF(COUNTBLANK(Table5!E8:N37)>0,"Нет","Да") -> Да
C32: ALL_TABLE31_INV_NF_ASSETS_GROSSNET_INDICATORS | D32: Инвестиции в нефинансовые активы | H32: GR or NT? | I32: NT | J32: NT | K32: NT | L32: NT | M32: NT | N32: NT | O32: NT | P32: NT | W32: November | X32: 11th | Z32: Таблица 6 | AD32: =IF(COUNTBLANK(Table6!E8:N112)>0,"Нет","Да") -> Да
C33: ALL_TABLE61_NF_ASSETS_INDICATORS | D33: Стоимостная оценка нефинансовых активов | H33: MV, HV, or BV? | I33: FV | J33: FV | K33: FV | L33: FV | M33: FV | N33: FV | O33: FV | P33: FV | W33: December | X33: 12th | Z33: Таблица 6A | AD33: =IF(COUNTBLANK(#REF!)>0,"Нет","Да") -> #REF!
C34: ALL_TABLE62_FIN_ASSETS_INDICATORS | D34: Стоимостная оценка финансовых активов | H34: MV, NV, or FV? | I34: NV | J34: NV | K34: NV | L34: NV | M34: NV | N34: NV | O34: NV | P34: NV | X34: 13th | Z34: Таблица 6B | AD34: =IF(COUNTBLANK(Table6B!E8:N71)>0,"Нет","Да") -> Да
C35: ALL_TABLE63_LIABILITIES_INDICATORS | D35: Стоимостная оценка обязательств | H35: MV, NV, or FV? | I35: NV | J35: NV | K35: NV | L35: NV | M35: NV | N35: NV | O35: NV | P35: NV | X35: 14th | Z35: Таблица 7 | AD35: =IF(COUNTBLANK(Table7!E8:N87)>0,"Нет","Да") -> Да
X36: 15th | Z36: Таблица 8A | AD36: =IF(COUNTBLANK(#REF!)>0,"Нет","Да") -> #REF!
G37: Справочный материал: "Руководство по статистике государственных финансов 2014 года" (РСГФ 2014 года) | X37: 16th | Z37: Таблица 8B | AD37: =IF(COUNTBLANK(#REF!)>0,"Нет","Да") -> #REF!
X38: 17th | Z38: Таблица 9 | AD38: =IF(COUNTBLANK(Table9!E8:N37)>0,"Нет","Да") -> Да
X39: 18th
X40: 19th
W41: Currency Name | X41: 20th
X42: 21st
W43: Afghanis (AFN) | X43: 22nd
W44: Albanian Leks (ALL) | X44: 23rd
...

Sheet StatementI
A1: =+Coverpage!A1 -> GFSM2014_V1.5 | F1: =Reporting_Country_Name -> Russian Federation | M1: =Reporting_Country_Code -> 922 | O1: Укажите "NA" в случае, если "нет данных"
A2: ОТЧЕТ I | E2: ="In "&Coverpage!$I$15&" of "&Coverpage!$I$14&" / Fiscal year ends in "&Coverpage!$I$11&" "&Coverpage!$I$12 -> In Billion of Russian Rubles (RUB) / Fiscal year ends in December 31st | O2: Укажите "NP" в случае, если "не применимо"
F3: Сектор госуд. управления | H3: =Reporting_Period_Code -> 2016 | M3: Для справки: центр. прав-во (вкл. SSF центр.уровня)
A4: ОТЧЕТ ОБ ОПЕРАЦИЯХ | D4: Центральное правительство (кроме фондов соц. обеспечения) | H4: Фонды социального обеспечения | I4: Региональные органы управления | J4: Местные органы управления | K4: Столбец консолидации | L4: Сектор государст-венного управления | O4: Горизонтальные проверки
D5: Бюджетные | E5: Внебюджетные | F5: Столбец консолидации | G5: Центральное правительство | O5: Центральное правительство (CG)=(BA) | P5: Сектор гос. управления (GG)=(CG)+(SSF)
D6: BA=GL1 | E6: EA | F6: CC | G6: CG | H6: SSF | I6: SG | J6: LG | K6: CT | L6: GG=GL3 | M6: GL2 | O6: +(EA)+(CC) | P6: +(SG)+(LG)+(CT)
A7: x | B7: ОПЕРАЦИИ, ВЛИЯЮЩИЕ НА ЧИСТУЮ СТОИМОСТЬ АКТИВОВ:
A8: 1 | B8: Доходы.................................................................................................................................................................................... | D8: =+IF(ISBLANK(Table1!E8),"",Table1!E8) -> 12963.399 | E8: =+IF(ISBLANK(Table1!F8),"",Table1!F8) -> 1925.295 | F8: =+IF(ISBLANK(Table1!G8),"",Table1!G8) -> -1057.445 | G8: =+IF(ISBLANK(Table1!H8),"",Table1!H8) -> 13831.248 | H8: =+IF(ISBLANK(Table1!I8),"",Table1!I8) -> 12179.132 | I8: =+IF(ISBLANK(Table1!J8),"",Table1!J8) -> 12896.575 | J8: =+IF(ISBLANK(Table1!K8),"",Table1!K8) -> 6716.385 | K8: =+IF(ISBLANK(Table1!L8),"",Table1!L8) -> -14447.783 | ... M8: =+IF(ISBLANK(Table1!N8),"",Table1!N8) -> 26010.38 | O8: =IF(OR(G8="NA",D8="NA",E8="NA",F8="NA"),"NA",SUM(G8)-SUM(D8:F8)) -> -0.001 | P8: =IF(OR(L8="NA",G8="NA",H8="NA",I8="NA",J8="NA",K8="NA"),"NA",SUM(L8)-SUM(G8:K8)) -> 3.6379788e-12
A9: 11 | B9: Налоги ..................................................................................................................................................................................... | D9: =+IF(ISBLANK(Table1!E9),"",Table1!E9) -> 7862.218 | E9: =+IF(ISBLANK(Table1!F9),"",Table1!F9) -> 0 | F9: =+IF(ISBLANK(Table1!G9),"",Table1!G9) -> 0 | G9: =+IF(ISBLANK(Table1!H9),"",Table1!H9) -> 7862.217 | H9: =+IF(ISBLANK(Table1!I9),"",Table1!I9) -> 0.014 | I9: =+IF(ISBLANK(Table1!J9),"",Table1!J9) -> 6555.727 | J9: =+IF(ISBLANK(Table1!K9),"",Table1!K9) -> 1028.789 | K9: =+IF(ISBLANK(Table1!L9),"",Table1!L9) -> 0 | ... M9: =+IF(ISBLANK(Table1!N9),"",Table1!N9) -> 7862.231 | O9: =IF(OR(G9="NA",D9="NA",E9="NA",F9="NA"),"NA",SUM(G9)-SUM(D9:F9)) -> -0.001 | P9: =IF(OR(L9="NA",G9="NA",H9="NA",I9="NA",J9="NA",K9="NA"),"NA",SUM(L9)-SUM(G9:K9)) -> 0
A10: 12 | B10: Взносы/отчисления на социальные нужды ..................................................................................................................................................... | D10: =+IF(ISBLANK(Table1!E42),"",Table1!E42) -> 2.447 | E10: =+IF(ISBLANK(Table1!F42),"",Table1!F42) -> 0 | F10: =+IF(ISBLANK(Table1!G42),"",Table1!G42) -> 0 | G10: =+IF(ISBLANK(Table1!H42),"",Table1!H42) -> 2.447 | H10: =+IF(ISBLANK(Table1!I42),"",Table1!I42) -> 6884.567 | I10: =+IF(ISBLANK(Table1!J42),"",Table1!J42) -> 0 | J10: =+IF(ISBLANK(Table1!K42),"",Table1!K42) -> 0 | K10: =+IF(ISBLANK(Table1!L42),"",Table1!L42) -> 0 | ... M10: =+IF(ISBLANK(Table1!N42),"",Table1!N42) -> 6887.014 | O10: =IF(OR(G10="NA",D10="NA",E10="NA",F10="NA"),"NA",SUM(G10)-SUM(D10:F10)) -> 0 | P10: =IF(OR(L10="NA",G10="NA",H10="NA",I10="NA",J10="NA",K10="NA"),"NA",SUM(L10)-SUM(G10:K10)) -> 0
A11: 13 | B11: Гранты ................................................................................................................................................................................ | D11: =+IF(ISBLANK(Table1!E52),"",Table1!E52) -> 117.085 | E11: =+IF(ISBLANK(Table1!F52),"",Table1!F52) -> 1131.128 | F11: =+IF(ISBLANK(Table1!G52),"",Table1!G52) -> -1057.445 | G11: =+IF(ISBLANK(Table1!H52),"",Table1!H52) -> 190.768 | H11: =+IF(ISBLANK(Table1!I52),"",Table1!I52) -> 5041.928 | I11: =+IF(ISBLANK(Table1!J52),"",Table1!J52) -> 4459.502 | J11: =+IF(ISBLANK(Table1!K52),"",Table1!K52) -> 4750.28 | K11: =+IF(ISBLANK(Table1!L52),"",Table1!L52) -> -14442.469 | ... M11: =+IF(ISBLANK(Table1!N52),"",Table1!N52) -> 5232.696 | O11: =IF(OR(G11="NA",D11="NA",E11="NA",F11="NA"),"NA",SUM(G11)-SUM(D11:F11)) -> -2.8421709e-14 | P11: =IF(OR(L11="NA",G11="NA",H11="NA",I11="NA",J11="NA",K11="NA"),"NA",SUM(L11)-SUM(G11:K11)) -> -2.4192627e-13
A12: 14 | B12: Другие доходы ................................................................................................................................................................. | D12: =+IF(ISBLANK(Table1!E62),"",Table1!E62) -> 4981.649 | E12: =+IF(ISBLANK(Table1!F62),"",Table1!F62) -> 794.167 | F12: =+IF(ISBLANK(Table1!G62),"",Table1!G62) -> 0 | G12: =+IF(ISBLANK(Table1!H62),"",Table1!H62) -> 5775.816 | H12: =+IF(ISBLANK(Table1!I62),"",Table1!I62) -> 252.623 | I12: =+IF(ISBLANK(Table1!J62),"",Table1!J62) -> 1881.346 | J12: =+IF(ISBLANK(Table1!K62),"",Table1!K62) -> 937.316 | K12: =+IF(ISBLANK(Table1!L62),"",Table1!L62) -> -5.314 | ... M12: =+IF(ISBLANK(Table1!N62),"",Table1!N62) -> 6028.439 | O12: =IF(OR(G12="NA",D12="NA",E12="NA",F12="NA"),"NA",SUM(G12)-SUM(D12:F12)) -> 0 | P12: =IF(OR(L12="NA",G12="NA",H12="NA",I12="NA",J12="NA",K12="NA"),"NA",SUM(L12)-SUM(G12:K12)) -> 0
A13: 2 | B13: Расходы ...................................................................................................................................................................................... | D13: =+IF(ISBLANK(Table2!E8),"",Table2!E8) -> 14025.079 | E13: =+IF(ISBLANK(Table2!F8),"",Table2!F8) -> 1883.078 | F13: =+IF(ISBLANK(Table2!G8),"",Table2!G8) -> -1057.445 | G13: =+IF(ISBLANK(Table2!H8),"",Table2!H8) -> 14850.712 | H13: =+IF(ISBLANK(Table2!I8),"",Table2!I8) -> 11714.634 | I13: =+IF(ISBLANK(Table2!J8),"",Table2!J8) -> 12224.187 | J13: =+IF(ISBLANK(Table2!K8),"",Table2!K8) -> 6425.024 | K13: =+IF(ISBLANK(Table2!L8),"",Table2!L8) -> -14447.783 | ... M13: =+IF(ISBLANK(Table2!N8),"",Table2!N8) -> 26565.346 | O13: =IF(OR(G13="NA",D13="NA",E13="NA",F13="NA"),"NA",SUM(G13)-SUM(D13:F13)) -> 0 | P13: =IF(OR(L13="NA",G13="NA",H13="NA",I13="NA",J13="NA",K13="NA"),"NA",SUM(L13)-SUM(G13:K13)) -> 1.0913936e-11
A14: 21 | B14: Оплата труда работников ........................................................................................................................................... | D14: =+IF(ISBLANK(Table2!E9),"",Table2!E9) -> 2494.393 | E14: =+IF(ISBLANK(Table2!F9),"",Table2!F9) -> 887.32 | F14: =+IF(ISBLANK(Table2!G9),"",Table2!G9) -> 0 | G14: =+IF(ISBLANK(Table2!H9),"",Table2!H9) -> 3381.713 | H14: =+IF(ISBLANK(Table2!I9),"",Table2!I9) -> 100.358 | I14: =+IF(ISBLANK(Table2!J9),"",Table2!J9) -> 2491.485 | J14: =+IF(ISBLANK(Table2!K9),"",Table2!K9) -> 1929.074 | K14: =+IF(ISBLANK(Table2!L9),"",Table2!L9) -> 0 | ... M14: =+IF(ISBLANK(Table2!N9),"",Table2!N9) -> 3482.071 | O14: =IF(OR(G14="NA",D14="NA",E14="NA",F14="NA"),"NA",SUM(G14)-SUM(D14:F14)) -> 0 | P14: =IF(OR(L14="NA",G14="NA",H14="NA",I14="NA",J14="NA",K14="NA"),"NA",SUM(L14)-SUM(G14:K14)) -> 9.094947e-13
A15: 22 | B15: Использование товаров и услуг ................................................................................................................................................. | D15: =+IF(ISBLANK(Table2!E14),"",Table2!E14) -> 1205.701 | E15: =+IF(ISBLANK(Table2!F14),"",Table2!F14) -> 510.642 | F15: =+IF(ISBLANK(Table2!G14),"",Table2!G14) -> 0 | G15: =+IF(ISBLANK(Table2!H14),"",Table2!H14) -> 1716.343 | H15: =+IF(ISBLANK(Table2!I14),"",Table2!I14) -> 78.324 | I15: =+IF(ISBLANK(Table2!J14),"",Table2!J14) -> 1594.589 | J15: =+IF(ISBLANK(Table2!K14),"",Table2!K14) -> 1159.648 | K15: =+IF(ISBLANK(Table2!L14),"",Table2!L14) -> 0 | ... M15: =+IF(ISBLANK(Table2!N14),"",Table2!N14) -> 1794.667 | O15: =IF(OR(G15="NA",D15="NA",E15="NA",F15="NA"),"NA",SUM(G15)-SUM(D15:F15)) -> 0 | P15: =IF(OR(L15="NA",G15="NA",H15="NA",I15="NA",J15="NA",K15="NA"),"NA",SUM(L15)-SUM(G15:K15)) -> 0
A16: 23 | B16: Потребление основного капитала ............................................................................................................................................. | D16: =+IF(ISBLANK(Table2!E15),"",Table2!E15) -> 661.659 | E16: =+IF(ISBLANK(Table2!F15),"",Table2!F15) -> 150.395 | F16: =+IF(ISBLANK(Table2!G15),"",Table2!G15) -> 0 | G16: =+IF(ISBLANK(Table2!H15),"",Table2!H15) -> 812.054 | H16: =+IF(ISBLANK(Table2!I15),"",Table2!I15) -> 10.868 | I16: =+IF(ISBLANK(Table2!J15),"",Table2!J15) -> 340.976 | J16: =+IF(ISBLANK(Table2!K15),"",Table2!K15) -> 260.105 | K16: =+IF(ISBLANK(Table2!L15),"",Table2!L15) -> 0 | ... M16: =+IF(ISBLANK(Table2!N15),"",Table2!N15) -> 822.922 | O16: =IF(OR(G16="NA",D16="NA",E16="NA",F16="NA"),"NA",SUM(G16)-SUM(D16:F16)) -> 0 | P16: =IF(OR(L16="NA",G16="NA",H16="NA",I16="NA",J16="NA",K16="NA"),"NA",SUM(L16)-SUM(G16:K16)) -> 0
A17: 24 | B17: Проценты ......................................................................................................................................................................................... | D17: =+IF(ISBLANK(Table2!E16),"",Table2!E16) -> 654.696 | E17: =+IF(ISBLANK(Table2!F16),"",Table2!F16) -> 15.137 | F17: =+IF(ISBLANK(Table2!G16),"",Table2!G16) -> 0 | G17: =+IF(ISBLANK(Table2!H16),"",Table2!H16) -> 669.833 | H17: =+IF(ISBLANK(Table2!I16),"",Table2!I16) -> 0 | I17: =+IF(ISBLANK(Table2!J16),"",Table2!J16) -> 132.613 | J17: =+IF(ISBLANK(Table2!K16),"",Table2!K16) -> 26.109 | K17: =+IF(ISBLANK(Table2!L16),"",Table2!L16) -> -5.314 | ... M17: =+IF(ISBLANK(Table2!N16),"",Table2!N16) -> 669.833 | O17: =IF(OR(G17="NA",D17="NA",E17="NA",F17="NA"),"NA",SUM(G17)-SUM(D17:F17)) -> 1.1368684e-13 | P17: =IF(OR(L17="NA",G17="NA",H17="NA",I17="NA",J17="NA",K17="NA"),"NA",SUM(L17)-SUM(G17:K17)) -> 0
A18: 25 | B18: Субсидии ........................................................................................................................................................................................ | D18: =+IF(ISBLANK(Table2!E20),"",Table2!E20) -> 1373.038 | E18: =+IF(ISBLANK(Table2!F20),"",Table2!F20) -> 61.32 | F18: =+IF(ISBLANK(Table2!G20),"",Table2!G20) -> 0 | G18: =+IF(ISBLANK(Table2!H20),"",Table2!H20) -> 1434.358 | H18: =+IF(ISBLANK(Table2!I20),"",Table2!I20) -> 0.521 | I18: =+IF(ISBLANK(Table2!J20),"",Table2!J20) -> 1767.598 | J18: =+IF(ISBLANK(Table2!K20),"",Table2!K20) -> 828.625 | K18: =+IF(ISBLANK(Table2!L20),"",Table2!L20) -> 0 | ... M18: =+IF(ISBLANK(Table2!N20),"",Table2!N20) -> 1434.879 | O18: =IF(OR(G18="NA",D18="NA",E18="NA",F18="NA"),"NA",SUM(G18)-SUM(D18:F18)) -> 0 | P18: =IF(OR(L18="NA",G18="NA",H18="NA",I18="NA",J18="NA",K18="NA"),"NA",SUM(L18)-SUM(G18:K18)) -> 0
A19: 26 | B19: Гранты ................................................................................................................................................................................ | D19: =+IF(ISBLANK(Table2!E24),"",Table2!E24) -> 6447.084 | E19: =+IF(ISBLANK(Table2!F24),"",Table2!F24) -> 58.062 | F19: =+IF(ISBLANK(Table2!G24),"",Table2!G24) -> -1057.445 | G19: =+IF(ISBLANK(Table2!H24),"",Table2!H24) -> 5447.701 | H19: =+IF(ISBLANK(Table2!I24),"",Table2!I24) -> 3115.299 | I19: =+IF(ISBLANK(Table2!J24),"",Table2!J24) -> 4210.423 | J19: =+IF(ISBLANK(Table2!K24),"",Table2!K24) -> 1921.852 | K19: =+IF(ISBLANK(Table2!L24),"",Table2!L24) -> -14442.469 | ... M19: =+IF(ISBLANK(Table2!N24),"",Table2!N24) -> 8563 | O19: =IF(OR(G19="NA",D19="NA",E19="NA",F19="NA"),"NA",SUM(G19)-SUM(D19:F19)) -> 0 | P19: =IF(OR(L19="NA",G19="NA",H19="NA",I19="NA",J19="NA",K19="NA"),"NA",SUM(L19)-SUM(G19:K19)) -> 5.4001248e-13
A20: 27 | B20: Социальные пособия ..................................................................................................................................................... | D20: =+IF(ISBLANK(Table2!E34),"",Table2!E34) -> 788.901 | E20: =+IF(ISBLANK(Table2!F34),"",Table2!F34) -> 2.596 | F20: =+IF(ISBLANK(Table2!G34),"",Table2!G34) -> 0 | G20: =+IF(ISBLANK(Table2!H34),"",Table2!H34) -> 791.497 | H20: =+IF(ISBLANK(Table2!I34),"",Table2!I34) -> 8127.794 | I20: =+IF(ISBLANK(Table2!J34),"",Table2!J34) -> 1562.23 | J20: =+IF(ISBLANK(Table2!K34),"",Table2!K34) -> 202.888 | K20: =+IF(ISBLANK(Table2!L34),"",Table2!L34) -> 0 | ... M20: =+IF(ISBLANK(Table2!N34),"",Table2!N34) -> 8919.291 | O20: =IF(OR(G20="NA",D20="NA",E20="NA",F20="NA"),"NA",SUM(G20)-SUM(D20:F20)) -> 0 | P20: =IF(OR(L20="NA",G20="NA",H20="NA",I20="NA",J20="NA",K20="NA"),"NA",SUM(L20)-SUM(G20:K20)) -> -1.8189894e-12
A21: 28 | B21: Другие расходы ............................................................................................................................................................................. | D21: =+IF(ISBLANK(Table2!E38),"",Table2!E38) -> 399.607 | E21: =+IF(ISBLANK(Table2!F38),"",Table2!F38) -> 197.606 | F21: =+IF(ISBLANK(Table2!G38),"",Table2!G38) -> 0 | G21: =+IF(ISBLANK(Table2!H38),"",Table2!H38) -> 597.213 | H21: =+IF(ISBLANK(Table2!I38),"",Table2!I38) -> 281.47 | I21: =+IF(ISBLANK(Table2!J38),"",Table2!J38) -> 124.273 | J21: =+IF(ISBLANK(Table2!K38),"",Table2!K38) -> 96.723 | K21: =+IF(ISBLANK(Table2!L38),"",Table2!L38) -> 0 | ... M21: =+IF(ISBLANK(Table2!N38),"",Table2!N38) -> 878.683 | O21: =IF(OR(G21="NA",D21="NA",E21="NA",F21="NA"),"NA",SUM(G21)-SUM(D21:F21)) -> 0 | P21: =IF(OR(L21="NA",G21="NA",H21="NA",I21="NA",J21="NA",K21="NA"),"NA",SUM(L21)-SUM(G21:K21)) -> 0
A22: GOB | B22: Валовое операционное сальдо (1-2+23) .................................................................................................................................. | D22: =IF(AND(D8="NP",D13="NP"),"NP",IF(D16="NA",IF(OR(D8="NA",D13="NA"),"NA",IF(ISNUMBER(D8)*ISNUMBER(D13),SUM(D8)-SUM(D13),"")),IF(OR(D8="NA",D13="NA",D16="NA"),"NA",IF(ISNUMBER(D8)*ISNUMBER(D13)*ISNUMBER(D16),SUM(D8)-SUM(D13)+SUM(D16),"")))) -> -400.021 | E22: =IF(AND(E8="NP",E13="NP"),"NP",IF(E16="NA",IF(OR(E8="NA",E13="NA"),"NA",IF(ISNUMBER(E8)*ISNUMBER(E13),SUM(E8)-SUM(E13),"")),IF(OR(E8="NA",E13="NA",E16="NA"),"NA",IF(ISNUMBER(E8)*ISNUMBER(E13)*ISNUMBER(E16),SUM(E8)-SUM(E13)+SUM(E16),"")))) -> 192.612 | F22: =IF(AND(F8="NP",F13="NP"),"NP",IF(F16="NA",IF(OR(F8="NA",F13="NA"),"NA",IF(ISNUMBER(F8)*ISNUMBER(F13),SUM(F8)-SUM(F13),"")),IF(OR(F8="NA",F13="NA",F16="NA"),"NA",IF(ISNUMBER(F8)*ISNUMBER(F13)*ISNUMBER(F16),SUM(F8)-SUM(F13)+SUM(F16),"")))) -> 0 | G22: =IF(AND(G8="NP",G13="NP"),"NP",IF(G16="NA",IF(OR(G8="NA",G13="NA"),"NA",IF(ISNUMBER(G8)*ISNUMBER(G13),SUM(G8)-SUM(G13),"")),IF(OR(G8="NA",G13="NA",G16="NA"),"NA",IF(ISNUMBER(G8)*ISNUMBER(G13)*ISNUMBER(G16),SUM(G8)-SUM(G13)+SUM(G16),"")))) -> -207.41 | H22: =IF(AND(H8="NP",H13="NP"),"NP",IF(H16="NA",IF(OR(H8="NA",H13="NA"),"NA",IF(ISNUMBER(H8)*ISNUMBER(H13),SUM(H8)-SUM(H13),"")),IF(OR(H8="NA",H13="NA",H16="NA"),"NA",IF(ISNUMBER(H8)*ISNUMBER(H13)*ISNUMBER(H16),SUM(H8)-SUM(H13)+SUM(H16),"")))) -> 475.366 | I22: =IF(AND(I8="NP",I13="NP"),"NP",IF(I16="NA",IF(OR(I8="NA",I13="NA"),"NA",IF(ISNUMBER(I8)*ISNUMBER(I13),SUM(I8)-SUM(I13),"")),IF(OR(I8="NA",I13="NA",I16="NA"),"NA",IF(ISNUMBER(I8)*ISNUMBER(I13)*ISNUMBER(I16),SUM(I8)-SUM(I13)+SUM(I16),"")))) -> 1013.364 | J22: =IF(AND(J8="NP",J13="NP"),"NP",IF(J16="NA",IF(OR(J8="NA",J13="NA"),"NA",IF(ISNUMBER(J8)*ISNUMBER(J13),SUM(J8)-SUM(J13),"")),IF(OR(J8="NA",J13="NA",J16="NA"),"NA",IF(ISNUMBER(J8)*ISNUMBER(J13)*ISNUMBER(J16),SUM(J8)-SUM(J13)+SUM(J16),"")))) -> 551.466 | K22: =IF(AND(K8="NP",K13="NP"),"NP",IF(K16="NA",IF(OR(K8="NA",K13="NA"),"NA",IF(ISNUMBER(K8)*ISNUMBER(K13),SUM(K8)-SUM(K13),"")),IF(OR(K8="NA",K13="NA",K16="NA"),"NA",IF(ISNUMBER(K8)*ISNUMBER(K13)*ISNUMBER(K16),SUM(K8)-SUM(K13)+SUM(K16),"")))) -> 0 | ... M22: =IF(AND(M8="NP",M13="NP"),"NP",IF(M16="NA",IF(OR(M8="NA",M13="NA"),"NA",IF(ISNUMBER(M8)*ISNUMBER(M13),SUM(M8)-SUM(M13),"")),IF(OR(M8="NA",M13="NA",M16="NA"),"NA",IF(ISNUMBER(M8)*ISNUMBER(M13)*ISNUMBER(M16),SUM(M8)-SUM(M13)+SUM(M16),"")))) -> 267.956 | O22: =IF(OR(G22="NA",D22="NA",E22="NA",F22="NA"),"NA",SUM(G22)-SUM(D22:F22)) -> -0.001 | P22: =IF(OR(L22="NA",G22="NA",H22="NA",I22="NA",J22="NA",K22="NA"),"NA",SUM(L22)-SUM(G22:K22)) -> -4.3200998e-12
A23: NOB | B23: Чистое операционное сальдо (1-2) ............................................................................................................................................... | D23: =IF(AND(D8="NP",D13="NP"),"NP",IF(OR(D16="NA",D16="NP"),"NA",IF(OR(D8="NA",D13="NA"),"NA",IF(ISNUMBER(D8)*ISNUMBER(D13),SUM(D8)-SUM(D13),"")))) -> -1061.68 | E23: =IF(AND(E8="NP",E13="NP"),"NP",IF(E16="NA","NA",IF(OR(E8="NA",E13="NA"),"NA",IF(ISNUMBER(E8)*ISNUMBER(E13),SUM(E8)-SUM(E13),"")))) -> 42.217 | F23: =IF(AND(F8="NP",F13="NP"),"NP",IF(F16="NA","NA",IF(OR(F8="NA",F13="NA"),"NA",IF(ISNUMBER(F8)*ISNUMBER(F13),SUM(F8)-SUM(F13),"")))) -> 0 | G23: =IF(AND(G8="NP",G13="NP"),"NP",IF(G16="NA","NA",IF(OR(G8="NA",G13="NA"),"NA",IF(ISNUMBER(G8)*ISNUMBER(G13),SUM(G8)-SUM(G13),"")))) -> -1019.464 | H23: =IF(AND(H8="NP",H13="NP"),"NP",IF(H16="NA","NA",IF(OR(H8="NA",H13="NA"),"NA",IF(ISNUMBER(H8)*ISNUMBER(H13),SUM(H8)-SUM(H13),"")))) -> 464.498 | I23: =IF(AND(I8="NP",I13="NP"),"NP",IF(I16="NA","NA",IF(OR(I8="NA",I13="NA"),"NA",IF(ISNUMBER(I8)*ISNUMBER(I13),SUM(I8)-SUM(I13),"")))) -> 672.388 | J23: =IF(AND(J8="NP",J13="NP"),"NP",IF(J16="NA","NA",IF(OR(J8="NA",J13="NA"),"NA",IF(ISNUMBER(J8)*ISNUMBER(J13),SUM(J8)-SUM(J13),"")))) -> 291.361 | K23: =IF(AND(K8="NP",K13="NP"),"NP",IF(K16="NA","NA",IF(OR(K8="NA",K13="NA"),"NA",IF(ISNUMBER(K8)*ISNUMBER(K13),SUM(K8)-SUM(K13),"")))) -> 0 | L23: =IF(AND(L8="NP",L13="NP"),"NP",IF(L16="NA","NA",IF(OR(L8="NA",L13="NA"),"NA",IF(ISNUMBER(L8)*ISNUMBER(L13),SUM(L8)-SUM(L13),"")))) -> 408.783 | M23: =IF(AND(M8="NP",M13="NP"),"NP",IF(M16="NA","NA",IF(OR(M8="NA",M13="NA"),"NA",IF(ISNUMBER(M8)*ISNUMBER(M13),SUM(M8)-SUM(M13),"")))) -> -554.966 | O23: =IF(OR(G23="NA",D23="NA",E23="NA",F23="NA"),"NA",SUM(G23)-SUM(D23:F23)) -> -0.001 | P23: =IF(OR(L23="NA",G23="NA",H23="NA",I23="NA",J23="NA",K23="NA"),"NA",SUM(L23)-SUM(G23:K23)) -> -4.5474735e-12
A24: x | B24: ОПЕРАЦИИ С НЕФИНАНСОВЫМИ АКТИВАМИ:
A25: 31 | B25: Чистые/валовые инвестиции в нефинансовые активы ....................................................................................................................... | D25: =+IF(ISBLANK(Table3!E9),"",Table3!E9) -> 1283.18 | E25: =+IF(ISBLANK(Table3!F9),"",Table3!F9) -> 68.271 | F25: =+IF(ISBLANK(Table3!G9),"",Table3!G9) -> 0 | G25: =+IF(ISBLANK(Table3!H9),"",Table3!H9) -> 1351.451 | H25: =+IF(ISBLANK(Table3!I9),"",Table3!I9) -> -0.84 | I25: =+IF(ISBLANK(Table3!J9),"",Table3!J9) -> -132.596 | J25: =+IF(ISBLANK(Table3!K9),"",Table3!K9) -> 395.459 | K25: =+IF(ISBLANK(Table3!L9),"",Table3!L9) -> 0 | ... M25: =+IF(ISBLANK(Table3!N9),"",Table3!N9) -> 1350.611 | O25: =IF(OR(G25="NA",D25="NA",E25="NA",F25="NA"),"NA",SUM(G25)-SUM(D25:F25)) -> -2.2737368e-13 | P25: =IF(OR(L25="NA",G25="NA",H25="NA",I25="NA",J25="NA",K25="NA"),"NA",SUM(L25)-SUM(G25:K25)) -> 0
A26: 311 | B26: Основные фонды ............................................................................................................................................................................. | D26: =+IF(ISBLANK(Table3!E10),"",Table3!E10) -> 1105.845 | E26: =+IF(ISBLANK(Table3!F10),"",Table3!F10) -> 56.199 | F26: =+IF(ISBLANK(Table3!G10),"",Table3!G10) -> 0 | G26: =+IF(ISBLANK(Table3!H10),"",Table3!H10) -> 1162.044 | H26: =+IF(ISBLANK(Table3!I10),"",Table3!I10) -> -1.253 | I26: =+IF(ISBLANK(Table3!J10),"",Table3!J10) -> -138.187 | J26: =+IF(ISBLANK(Table3!K10),"",Table3!K10) -> 380.04 | K26: =+IF(ISBLANK(Table3!L10),"",Table3!L10) -> 0 | ... M26: =+IF(ISBLANK(Table3!N10),"",Table3!N10) -> 1160.791 | O26: =IF(OR(G26="NA",D26="NA",E26="NA",F26="NA"),"NA",SUM(G26)-SUM(D26:F26)) -> -2.2737368e-13 | P26: =IF(OR(L26="NA",G26="NA",H26="NA",I26="NA",J26="NA",K26="NA"),"NA",SUM(L26)-SUM(G26:K26)) -> 0
A27: 312 | B27: Запасы материальных оборотных средств ............................................................................................................................................................. | D27: =+IF(ISBLANK(Table3!E15),"",Table3!E15) -> 177.305 | E27: =+IF(ISBLANK(Table3!F15),"",Table3!F15) -> 12.072 | F27: =+IF(ISBLANK(Table3!G15),"",Table3!G15) -> 0 | G27: =+IF(ISBLANK(Table3!H15),"",Table3!H15) -> 189.377 | H27: =+IF(ISBLANK(Table3!I15),"",Table3!I15) -> 0.069 | I27: =+IF(ISBLANK(Table3!J15),"",Table3!J15) -> 5.589 | J27: =+IF(ISBLANK(Table3!K15),"",Table3!K15) -> 15.419 | K27: =+IF(ISBLANK(Table3!L15),"",Table3!L15) -> 0 | ... M27: =+IF(ISBLANK(Table3!N15),"",Table3!N15) -> 189.446 | O27: =IF(OR(G27="NA",D27="NA",E27="NA",F27="NA"),"NA",SUM(G27)-SUM(D27:F27)) -> 0 | P27: =IF(OR(L27="NA",G27="NA",H27="NA",I27="NA",J27="NA",K27="NA"),"NA",SUM(L27)-SUM(G27:K27)) -> 0
A28: 313 | B28: Ценности .................................................................................................................................................................................... | D28: =+IF(ISBLANK(Table3!E16),"",Table3!E16) -> 0 | E28: =+IF(ISBLANK(Table3!F16),"",Table3!F16) -> 0 | F28: =+IF(ISBLANK(Table3!G16),"",Table3!G16) -> 0 | G28: =+IF(ISBLANK(Table3!H16),"",Table3!H16) -> 0 | H28: =+IF(ISBLANK(Table3!I16),"",Table3!I16) -> 0 | I28: =+IF(ISBLANK(Table3!J16),"",Table3!J16) -> 0 | J28: =+IF(ISBLANK(Table3!K16),"",Table3!K16) -> 0 | K28: =+IF(ISBLANK(Table3!L16),"",Table3!L16) -> 0 | ... M28: =+IF(ISBLANK(Table3!N16),"",Table3!N16) -> 0 | O28: =IF(OR(G28="NA",D28="NA",E28="NA",F28="NA"),"NA",SUM(G28)-SUM(D28:F28)) -> 0 | P28: =IF(OR(L28="NA",G28="NA",H28="NA",I28="NA",J28="NA",K28="NA"),"NA",SUM(L28)-SUM(G28:K28)) -> 0
A29: 314 | B29: Непроизведенные активы ............................................................................................................................................................ | D29: =+IF(ISBLANK(Table3!E17),"",Table3!E17) -> 0.03 | E29: =+IF(ISBLANK(Table3!F17),"",Table3!F17) -> 0 | F29: =+IF(ISBLANK(Table3!G17),"",Table3!G17) -> 0 | G29: =+IF(ISBLANK(Table3!H17),"",Table3!H17) -> 0.03 | H29: =+IF(ISBLANK(Table3!I17),"",Table3!I17) -> 0.344 | I29: =+IF(ISBLANK(Table3!J17),"",Table3!J17) -> 0.002 | J29: =+IF(ISBLANK(Table3!K17),"",Table3!K17) -> 0 | K29: =+IF(ISBLANK(Table3!L17),"",Table3!L17) -> 0 | ... M29: =+IF(ISBLANK(Table3!N17),"",Table3!N17) -> 0.374 | O29: =IF(OR(G29="NA",D29="NA",E29="NA",F29="NA"),"NA",SUM(G29)-SUM(D29:F29)) -> 0 | P29: =IF(OR(L29="NA",G29="NA",H29="NA",I29="NA",J29="NA",K29="NA"),"NA",SUM(L29)-SUM(G29:K29)) -> 0
A30: 2M | B30: Совокупные расходы (2+31) ......................................................................................................................................... | D30: =IF(AND(D13="NP",D25="NP"),"NP",IF(OR(D13="NA",D25="NA"),"NA",IF(ISNUMBER(D13)*ISNUMBER(D25),SUM(D13)+SUM(D25),""))) -> 15308.259 | E30: =IF(AND(E13="NP",E25="NP"),"NP",IF(OR(E13="NA",E25="NA"),"NA",IF(ISNUMBER(E13)*ISNUMBER(E25),SUM(E13)+SUM(E25),""))) -> 1951.349 | F30: =IF(AND(F13="NP",F25="NP"),"NP",IF(OR(F13="NA",F25="NA"),"NA",IF(ISNUMBER(F13)*ISNUMBER(F25),SUM(F13)+SUM(F25),""))) -> -1057.445 | G30: =IF(AND(G13="NP",G25="NP"),"NP",IF(OR(G13="NA",G25="NA"),"NA",IF(ISNUMBER(G13)*ISNUMBER(G25),SUM(G13)+SUM(G25),""))) -> 16202.163 | H30: =IF(AND(H13="NP",H25="NP"),"NP",IF(OR(H13="NA",H25="NA"),"NA",IF(ISNUMBER(H13)*ISNUMBER(H25),SUM(H13)+SUM(H25),""))) -> 11713.794 | I30: =IF(AND(I13="NP",I25="NP"),"NP",IF(OR(I13="NA",I25="NA"),"NA",IF(ISNUMBER(I13)*ISNUMBER(I25),SUM(I13)+SUM(I25),""))) -> 12091.591 | J30: =IF(AND(J13="NP",J25="NP"),"NP",IF(OR(J13="NA",J25="NA"),"NA",IF(ISNUMBER(J13)*ISNUMBER(J25),SUM(J13)+SUM(J25),""))) -> 6820.483 | K30: =IF(AND(K13="NP",K25="NP"),"NP",IF(OR(K13="NA",K25="NA"),"NA",IF(ISNUMBER(K13)*ISNUMBER(K25),SUM(K13)+SUM(K25),""))) -> -14447.783 | ... M30: =IF(AND(M13="NP",M25="NP"),"NP",IF(OR(M13="NA",M25="NA"),"NA",IF(ISNUMBER(M13)*ISNUMBER(M25),SUM(M13)+SUM(M25),""))) -> 27915.957 | O30: =IF(OR(G30="NA",D30="NA",E30="NA",F30="NA"),"NA",SUM(G30)-SUM(D30:F30)) -> -1.8189894e-12 | P30: =IF(OR(L30="NA",G30="NA",H30="NA",I30="NA",J30="NA",K30="NA"),"NA",SUM(L30)-SUM(G30:K30)) -> 7.2759576e-12
A31: NLB | B31: Чистое кредитование (+) / Чистое заимствование (-) (1-2-31) или (1-2M) ......................................................................................................................................... | D31: =IF(AND(D8="NP",D13="NP",D25="NP"),"NP",IF(OR(D8="NA",D13="NA",D25="NA"),"NA",IF(ISNUMBER(D8)*ISNUMBER(D13)*ISNUMBER(D25),SUM(D8)-SUM(D13)-SUM(D25),""))) -> -2344.86 | E31: =IF(AND(E8="NP",E13="NP",E25="NP"),"NP",IF(OR(E8="NA",E13="NA",E25="NA"),"NA",IF(ISNUMBER(E8)*ISNUMBER(E13)*ISNUMBER(E25),SUM(E8)-SUM(E13)-SUM(E25),""))) -> -26.054 | F31: =IF(AND(F8="NP",F13="NP",F25="NP"),"NP",IF(OR(F8="NA",F13="NA",F25="NA"),"NA",IF(ISNUMBER(F8)*ISNUMBER(F13)*ISNUMBER(F25),SUM(F8)-SUM(F13)-SUM(F25),""))) -> 0 | G31: =IF(AND(G8="NP",G13="NP",G25="NP"),"NP",IF(OR(G8="NA",G13="NA",G25="NA"),"NA",IF(ISNUMBER(G8)*ISNUMBER(G13)*ISNUMBER(G25),SUM(G8)-SUM(G13)-SUM(G25),""))) -> -2370.915 | H31: =IF(AND(H8="NP",H13="NP",H25="NP"),"NP",IF(OR(H8="NA",H13="NA",H25="NA"),"NA",IF(ISNUMBER(H8)*ISNUMBER(H13)*ISNUMBER(H25),SUM(H8)-SUM(H13)-SUM(H25),""))) -> 465.338 | I31: =IF(AND(I8="NP",I13="NP",I25="NP"),"NP",IF(OR(I8="NA",I13="NA",I25="NA"),"NA",IF(ISNUMBER(I8)*ISNUMBER(I13)*ISNUMBER(I25),SUM(I8)-SUM(I13)-SUM(I25),""))) -> 804.984 | J31: =IF(AND(J8="NP",J13="NP",J25="NP"),"NP",IF(OR(J8="NA",J13="NA",J25="NA"),"NA",IF(ISNUMBER(J8)*ISNUMBER(J13)*ISNUMBER(J25),SUM(J8)-SUM(J13)-SUM(J25),""))) -> -104.098 | K31: =IF(AND(K8="NP",K13="NP",K25="NP"),"NP",IF(OR(K8="NA",K13="NA",K25="NA"),"NA",IF(ISNUMBER(K8)*ISNUMBER(K13)*ISNUMBER(K25),SUM(K8)-SUM(K13)-SUM(K25),""))) -> 0 | ... M31: =IF(AND(M8="NP",M13="NP",M25="NP"),"NP",IF(OR(M8="NA",M13="NA",M25="NA"),"NA",IF(ISNUMBER(M8)*ISNUMBER(M13)*ISNUMBER(M25),SUM(M8)-SUM(M13)-SUM(M25),""))) -> -1905.577 | O31: =IF(OR(G31="NA",D31="NA",E31="NA",F31="NA"),"NA",SUM(G31)-SUM(D31:F31)) -> -0.001 | P31: =IF(OR(L31="NA",G31="NA",H31="NA",I31="NA",J31="NA",K31="NA"),"NA",SUM(L31)-SUM(G31:K31)) -> -4.3200998e-12
A32: x | B32: ОПЕРАЦИИ С ФИНАНСОВЫМИ АКТИВАМИ И ОБЯЗАТЕЛЬСТВАМИ (ФИНАНСИРОВАНИЕ):
A33: 32 | B33: Чистое приобретение финансовых активов ............................................................................................................................... | D33: =+IF(ISBLANK(Table3!E22),"",Table3!E22) -> -990.379 | E33: =+IF(ISBLANK(Table3!F22),"",Table3!F22) -> 6.895 | F33: =+IF(ISBLANK(Table3!G22),"",Table3!G22) -> 0 | G33: =+IF(ISBLANK(Table3!H22),"",Table3!H22) -> -983.484 | H33: =+IF(ISBLANK(Table3!I22),"",Table3!I22) -> 248.412 | I33: =+IF(ISBLANK(Table3!J22),"",Table3!J22) -> 790.784 | J33: =+IF(ISBLANK(Table3!K22),"",Table3!K22) -> -58.531 | K33: =+IF(ISBLANK(Table3!L22),"",Table3!L22) -> -67.165 | ... M33: =+IF(ISBLANK(Table3!N22),"",Table3!N22) -> -735.072 | O33: =IF(OR(G33="NA",D33="NA",E33="NA",F33="NA"),"NA",SUM(G33)-SUM(D33:F33)) -> 0 | P33: =IF(OR(L33="NA",G33="NA",H33="NA",I33="NA",J33="NA",K33="NA"),"NA",SUM(L33)-SUM(G33:K33)) -> 1.9895197e-13
A34: 321 | B34: Внутренние дебиторы ................................................................................................................................................................................... | D34: =+IF(ISBLANK(Table3!E31),"",Table3!E31) -> -639.8366 | E34: =+IF(ISBLANK(Table3!F31),"",Table3!F31) -> 6.895 | F34: =+IF(ISBLANK(Table3!G31),"",Table3!G31) -> 0 | G34: =+IF(ISBLANK(Table3!H31),"",Table3!H31) -> -632.9416 | H34: =+IF(ISBLANK(Table3!I31),"",Table3!I31) -> 248.412 | I34: =+IF(ISBLANK(Table3!J31),"",Table3!J31) -> 790.784 | J34: =+IF(ISBLANK(Table3!K31),"",Table3!K31) -> -58.531 | K34: =+IF(ISBLANK(Table3!L31),"",Table3!L31) -> -67.165 | ... M34: =+IF(ISBLANK(Table3!N31),"",Table3!N31) -> -384.5296 | O34: =IF(OR(G34="NA",D34="NA",E34="NA",F34="NA"),"NA",SUM(G34)-SUM(D34:F34)) -> 2.2737368e-13 | P34: =IF(OR(L34="NA",G34="NA",H34="NA",I34="NA",J34="NA",K34="NA"),"NA",SUM(L34)-SUM(G34:K34)) -> 0
A35: 322 | B35: Внешние дебиторы ........................................................................................................................................................................................ | D35: =+IF(ISBLANK(Table3!E40),"",Table3!E40) -> -350.542 | E35: =+IF(ISBLANK(Table3!F40),"",Table3!F40) -> 0 | F35: =+IF(ISBLANK(Table3!G40),"",Table3!G40) -> 0 | G35: =+IF(ISBLANK(Table3!H40),"",Table3!H40) -> -350.542 | H35: =+IF(ISBLANK(Table3!I40),"",Table3!I40) -> 0 | I35: =+IF(ISBLANK(Table3!J40),"",Table3!J40) -> 0 | J35: =+IF(ISBLANK(Table3!K40),"",Table3!K40) -> 0 | K35: =+IF(ISBLANK(Table3!L40),"",Table3!L40) -> 0 | ... M35: =+IF(ISBLANK(Table3!N40),"",Table3!N40) -> -350.542 | O35: =IF(OR(G35="NA",D35="NA",E35="NA",F35="NA"),"NA",SUM(G35)-SUM(D35:F35)) -> 0 | P35: =IF(OR(L35="NA",G35="NA",H35="NA",I35="NA",J35="NA",K35="NA"),"NA",SUM(L35)-SUM(G35:K35)) -> 0
A36: 33 | B36: Чистое принятие обязательств ................................................................................................................................................. | D36: =+IF(ISBLANK(Table3!E49),"",Table3!E49) -> 1354.483 | E36: =+IF(ISBLANK(Table3!F49),"",Table3!F49) -> 32.928 | F36: =+IF(ISBLANK(Table3!G49),"",Table3!G49) -> 0 | G36: =+IF(ISBLANK(Table3!H49),"",Table3!H49) -> 1387.411 | H36: =+IF(ISBLANK(Table3!I49),"",Table3!I49) -> -216.904 | I36: =+IF(ISBLANK(Table3!J49),"",Table3!J49) -> -14.188 | J36: =+IF(ISBLANK(Table3!K49),"",Table3!K49) -> 45.521 | K36: =+IF(ISBLANK(Table3!L49),"",Table3!L49) -> -67.165 | ... M36: =+IF(ISBLANK(Table3!N49),"",Table3!N49) -> 1170.507 | O36: =IF(OR(G36="NA",D36="NA",E36="NA",F36="NA"),"NA",SUM(G36)-SUM(D36:F36)) -> 0 | P36: =IF(OR(L36="NA",G36="NA",H36="NA",I36="NA",J36="NA",K36="NA"),"NA",SUM(L36)-SUM(G36:K36)) -> 0
A37: 331 | B37: Внутренние кредиторы ................................................................................................................................................................................... | D37: =+IF(ISBLANK(Table3!E63),"",Table3!E63) -> 1267.245 | E37: =+IF(ISBLANK(Table3!F63),"",Table3!F63) -> 32.928 | F37: =+IF(ISBLANK(Table3!G63),"",Table3!G63) -> 0 | G37: =+IF(ISBLANK(Table3!H63),"",Table3!H63) -> 1300.173 | H37: =+IF(ISBLANK(Table3!I63),"",Table3!I63) -> -216.904 | I37: =+IF(ISBLANK(Table3!J63),"",Table3!J63) -> 13.584 | J37: =+IF(ISBLANK(Table3!K63),"",Table3!K63) -> 50.703 | K37: =+IF(ISBLANK(Table3!L63),"",Table3!L63) -> -67.165 | ... M37: =+IF(ISBLANK(Table3!N63),"",Table3!N63) -> 1083.269 | O37: =IF(OR(G37="NA",D37="NA",E37="NA",F37="NA"),"NA",SUM(G37)-SUM(D37:F37)) -> 2.2737368e-13 | P37: =IF(OR(L37="NA",G37="NA",H37="NA",I37="NA",J37="NA",K37="NA"),"NA",SUM(L37)-SUM(G37:K37)) -> 0
A38: 332 | B38: Внешние кредиторы ........................................................................................................................................................................................ | D38: =+IF(ISBLANK(Table3!E71),"",Table3!E71) -> 87.238 | E38: =+IF(ISBLANK(Table3!F71),"",Table3!F71) -> 0 | F38: =+IF(ISBLANK(Table3!G71),"",Table3!G71) -> 0 | G38: =+IF(ISBLANK(Table3!H71),"",Table3!H71) -> 87.238 | H38: =+IF(ISBLANK(Table3!I71),"",Table3!I71) -> 0 | I38: =+IF(ISBLANK(Table3!J71),"",Table3!J71) -> -27.772 | J38: =+IF(ISBLANK(Table3!K71),"",Table3!K71) -> -5.182 | K38: =+IF(ISBLANK(Table3!L71),"",Table3!L71) -> 0 | ... M38: =+IF(ISBLANK(Table3!N71),"",Table3!N71) -> 87.238 | O38: =IF(OR(G38="NA",D38="NA",E38="NA",F38="NA"),"NA",SUM(G38)-SUM(D38:F38)) -> 0 | P38: =IF(OR(L38="NA",G38="NA",H38="NA",I38="NA",J38="NA",K38="NA"),"NA",SUM(L38)-SUM(G38:K38)) -> 0
A39: NLBz | B39: Общее статистические расхождение: NLB и финансирование (32-33-NLB) .................................................................................................................. | D39: =IF(AND(D31="NP",D33="NP",D36="NP"),"NP",IF(OR(D31="NA",D33="NA",D36="NA"),"NA",IF(ISNUMBER(D31)*ISNUMBER(D33)*ISNUMBER(D36),-SUM(D31)+SUM(D33)-SUM(D36),""))) -> -0.002 | E39: =IF(AND(E31="NP",E33="NP",E36="NP"),"NP",IF(OR(E31="NA",E33="NA",E36="NA"),"NA",IF(ISNUMBER(E31)*ISNUMBER(E33)*ISNUMBER(E36),-SUM(E31)+SUM(E33)-SUM(E36),""))) -> 0.021 | F39: =IF(AND(F31="NP",F33="NP",F36="NP"),"NP",IF(OR(F31="NA",F33="NA",F36="NA"),"NA",IF(ISNUMBER(F31)*ISNUMBER(F33)*ISNUMBER(F36),-SUM(F31)+SUM(F33)-SUM(F36),""))) -> 0 | G39: =IF(AND(G31="NP",G33="NP",G36="NP"),"NP",IF(OR(G31="NA",G33="NA",G36="NA"),"NA",IF(ISNUMBER(G31)*ISNUMBER(G33)*ISNUMBER(G36),-SUM(G31)+SUM(G33)-SUM(G36),""))) -> 0.02 | H39: =IF(AND(H31="NP",H33="NP",H36="NP"),"NP",IF(OR(H31="NA",H33="NA",H36="NA"),"NA",IF(ISNUMBER(H31)*ISNUMBER(H33)*ISNUMBER(H36),-SUM(H31)+SUM(H33)-SUM(H36),""))) -> -0.022 | I39: =IF(AND(I31="NP",I33="NP",I36="NP"),"NP",IF(OR(I31="NA",I33="NA",I36="NA"),"NA",IF(ISNUMBER(I31)*ISNUMBER(I33)*ISNUMBER(I36),-SUM(I31)+SUM(I33)-SUM(I36),""))) -> -0.012 | J39: =IF(AND(J31="NP",J33="NP",J36="NP"),"NP",IF(OR(J31="NA",J33="NA",J36="NA"),"NA",IF(ISNUMBER(J31)*ISNUMBER(J33)*ISNUMBER(J36),-SUM(J31)+SUM(J33)-SUM(J36),""))) -> 0.046 | K39: =IF(AND(K31="NP",K33="NP",K36="NP"),"NP",IF(OR(K31="NA",K33="NA",K36="NA"),"NA",IF(ISNUMBER(K31)*ISNUMBER(K33)*ISNUMBER(K36),-SUM(K31)+SUM(K33)-SUM(K36),""))) -> 0 | ... M39: =IF(AND(M31="NP",M33="NP",M36="NP"),"NP",IF(OR(M31="NA",M33="NA",M36="NA"),"NA",IF(ISNUMBER(M31)*ISNUMBER(M33)*ISNUMBER(M36),-SUM(M31)+SUM(M33)-SUM(M36),""))) -> -0.002 | O39: =IF(OR(G39="NA",D39="NA",E39="NA",F39="NA"),"NA",SUM(G39)-SUM(D39:F39)) -> 0.001 | P39: =IF(OR(L39="NA",G39="NA",H39="NA",I39="NA",J39="NA",K39="NA"),"NA",SUM(L39)-SUM(G39:K39)) -> 4.7748472e-12
A40: x | B40: Справочные статьи:
...

Sheet StatementII
B1: =+Coverpage!A1 -> GFSM2014_V1.5 | G1: =Reporting_Country_Name -> Russian Federation | N1: =Reporting_Country_Code -> 922 | P1: Укажите "NA" в случае, если "нет данных"
B2: ОТЧЕТ II | F2: ="In "&Coverpage!$I$15&" of "&Coverpage!$I$14&" / Fiscal year ends in "&Coverpage!$I$11&" "&Coverpage!$I$12 -> In Billion of Russian Rubles (RUB) / Fiscal year ends in December 31st | P2: Укажите "NP" в случае, если "не применимо"
G3: Сектор госуд. управления | I3: =Reporting_Period_Code -> 2016 | N3: Для справки: центр. прав-во (вкл. SSF центр.уровня)
B4: ОТЧЕТ ОБ ИСТОЧНИКАХ И ИСПОЛЬЗОВАНИИ ДЕНЕЖНЫХ СРЕДСТВ | E4: Центральное правительство (кроме фондов соц. обеспечения) | I4: Фонды социального обеспечения | J4: Региональные органы управления | K4: Местные органы управления | L4: Столбец консолидации | M4: Сектор государст-венного управления | P4: Горизонтальные проверки
E5: Бюджетные | F5: Внебюджетные | G5: Столбец консолидации | H5: Центральное правительство | P5: Центральное правительство (CG)=(BA) | Q5: Сектор гос. управления (GG)=(CG)+(SSF)
E6: BCG | F6: EBG | G6: CGC | H6: CG | I6: SSG | J6: RG | K6: LG | L6: GGC | M6: GG | N6: CG01
E7: BA=GL1 | F7: EA | G7: CC | H7: CG | I7: SSF | J7: SG | K7: LG | L7: CT | M7: GG=GL3 | N7: GL2 | P7: +(EA)+(CC) | Q7: +(SG)+(LG)+(CT)
B8: x | C8: ПОТОКИ ДЕНЕЖНЫХ СРЕДСТВ В СВЯЗИ С ОПЕРАЦИОННОЙ ДЕЯТЕЛЬНОСТЬЮ:
A9: GR_G14_CA | B9: C1 | C9: Поступления денежных средств в результате операционной деятельности .................................................................................................................................................................................... | E9: 13371.483 | F9: 1783.52 | G9: -1094.457 | H9: 14060.546 | I9: 11540.692 | J9: 11675.087 | K9: 5736.013 | L9: -13860.939 | M9: 29151.399 | N9: 25601.238 | P9: =IF(OR(H9="NA",E9="NA",F9="NA",G9="NA"),"NA",SUM(H9)-SUM(E9:G9)) -> 0 | Q9: =IF(OR(M9="NA",H9="NA",I9="NA",J9="NA",K9="NA",L9="NA"),"NA",SUM(M9)-SUM(H9:L9)) -> 0
A10: GRT_G14_CA | B10: C11 | C10: Налоги ..................................................................................................................................................................................... | E10: 8395.628 | F10: 0 | G10: 0 | H10: 8395.628 | I10: 0 | J10: 6435.68 | K10: 1035.297 | L10: 0 | M10: 15866.605 | N10: 8395.628 | P10: =IF(OR(H10="NA",E10="NA",F10="NA",G10="NA"),"NA",SUM(H10)-SUM(E10:G10)) -> 0 | Q10: =IF(OR(M10="NA",H10="NA",I10="NA",J10="NA",K10="NA",L10="NA"),"NA",SUM(M10)-SUM(H10:L10)) -> 0
A11: GRS_G14_CA | B11: C12 | C11: Взносы/отчисления на социальные нужды ..................................................................................................................................................... | E11: 0.493 | F11: 0 | G11: 0 | H11: 0.493 | I11: 6329.139 | J11: 0 | K11: 0 | L11: 0 | M11: 6329.632 | N11: 6329.632 | P11: =IF(OR(H11="NA",E11="NA",F11="NA",G11="NA"),"NA",SUM(H11)-SUM(E11:G11)) -> 0 | Q11: =IF(OR(M11="NA",H11="NA",I11="NA",J11="NA",K11="NA",L11="NA"),"NA",SUM(M11)-SUM(H11:L11)) -> 0
A12: GRG_G14_CA | B12: C13 | C12: Гранты ................................................................................................................................................................................ | E12: 217.863 | F12: 1094.457 | G12: -1094.457 | H12: 217.863 | I12: 5058.553 | J12: 4393.387 | K12: 4186.956 | L12: -13856.76 | M12: -0.001 | N12: 5276.416 | P12: =IF(OR(H12="NA",E12="NA",F12="NA",G12="NA"),"NA",SUM(H12)-SUM(E12:G12)) -> 0 | Q12: =IF(OR(M12="NA",H12="NA",I12="NA",J12="NA",K12="NA",L12="NA"),"NA",SUM(M12)-SUM(H12:L12)) -> -2.2737368e-13
A13: GRO_G14_CA | B13: C14 | C13: Другие поступления ................................................................................................................................................................. | E13: 4757.499 | F13: 689.064 | G13: 0 | H13: 5446.563 | I13: 153 | J13: 846.019 | K13: 513.76 | L13: -4.179 | M13: 6955.163 | N13: 5599.563 | P13: =IF(OR(H13="NA",E13="NA",F13="NA",G13="NA"),"NA",SUM(H13)-SUM(E13:G13)) -> 0 | Q13: =IF(OR(M13="NA",H13="NA",I13="NA",J13="NA",K13="NA",L13="NA"),"NA",SUM(M13)-SUM(H13:L13)) -> 0
A14: GE_G14_CA | B14: C2 | C14: Выплаты денежных средств для проведения операционной деятельности ...................................................................................................................................................................................... | E14: 13273.941 | F14: 1524.588 | G14: -1094.457 | H14: 13704.072 | I14: 11701.514 | J14: 10192.927 | K14: 5038.245 | L14: -13860.939 | M14: 26775.819 | N14: 25405.586 | P14: =IF(OR(H14="NA",E14="NA",F14="NA",G14="NA"),"NA",SUM(H14)-SUM(E14:G14)) -> 0 | Q14: =IF(OR(M14="NA",H14="NA",I14="NA",J14="NA",K14="NA",L14="NA"),"NA",SUM(M14)-SUM(H14:L14)) -> -3.6379788e-12
A15: GECE_G14_CA | B15: C21 | C15: Оплата труда работников ........................................................................................................................................... | E15: 2511.391 | F15: 900.154 | G15: 0 | H15: 3411.545 | I15: 100.159 | J15: 2487.558 | K15: 1928.694 | L15: 0 | M15: 7927.956 | N15: 3511.704 | P15: =IF(OR(H15="NA",E15="NA",F15="NA",G15="NA"),"NA",SUM(H15)-SUM(E15:G15)) -> 0 | Q15: =IF(OR(M15="NA",H15="NA",I15="NA",J15="NA",K15="NA",L15="NA"),"NA",SUM(M15)-SUM(H15:L15)) -> 0
A16: GEGS_G14_CA | B16: C22 | C16: Покупка товаров и услуг ................................................................................................................................................. | E16: 1896.14 | F16: 322.694 | G16: 0 | H16: 2218.834 | I16: 75 | J16: 1107.439 | K16: 800.146 | L16: 0 | M16: 4201.419 | N16: 2293.834 | P16: =IF(OR(H16="NA",E16="NA",F16="NA",G16="NA"),"NA",SUM(H16)-SUM(E16:G16)) -> 0 | Q16: =IF(OR(M16="NA",H16="NA",I16="NA",J16="NA",K16="NA",L16="NA"),"NA",SUM(M16)-SUM(H16:L16)) -> 0
A17: GEI_G14_CA | B17: C24 | C17: Проценты ......................................................................................................................................................................................... | E17: 628.843 | F17: 15.94 | G17: 0 | H17: 644.783 | I17: 0 | J17: 128.51 | K17: 26.356 | L17: -4.179 | M17: 795.47 | N17: 644.783 | P17: =IF(OR(H17="NA",E17="NA",F17="NA",G17="NA"),"NA",SUM(H17)-SUM(E17:G17)) -> 0 | Q17: =IF(OR(M17="NA",H17="NA",I17="NA",J17="NA",K17="NA",L17="NA"),"NA",SUM(M17)-SUM(H17:L17)) -> 0
A18: GEST_G14_CA | B18: C25 | C18: Субсидии ........................................................................................................................................................................................ | E18: 865.675 | F18: 6.056 | G18: 0 | H18: 871.731 | I18: 0.5 | J18: 813.129 | K18: 167.295 | L18: 0 | M18: 1852.655 | N18: 872.231 | P18: =IF(OR(H18="NA",E18="NA",F18="NA",G18="NA"),"NA",SUM(H18)-SUM(E18:G18)) -> 0 | Q18: =IF(OR(M18="NA",H18="NA",I18="NA",J18="NA",K18="NA",L18="NA"),"NA",SUM(M18)-SUM(H18:L18)) -> -2.2737368e-13
A19: GEG_G14_CA | B19: C26 | C19: Гранты ................................................................................................................................................................................ | E19: 6219.188 | F19: 65.375 | G19: -1094.457 | H19: 5190.106 | I19: 3116.873 | J19: 3905.468 | K19: 1798.9 | L19: -13856.76 | M19: 154.587 | N19: 8306.979 | P19: =IF(OR(H19="NA",E19="NA",F19="NA",G19="NA"),"NA",SUM(H19)-SUM(E19:G19)) -> 0 | Q19: =IF(OR(M19="NA",H19="NA",I19="NA",J19="NA",K19="NA",L19="NA"),"NA",SUM(M19)-SUM(H19:L19)) -> 0
A20: GES_G14_CA | B20: C27 | C20: Социальные пособия ..................................................................................................................................................... | E20: 931.64 | F20: 2.587 | G20: 0 | H20: 934.227 | I20: 7692.738 | J20: 1609.922 | K20: 228.84 | L20: 0 | M20: 10465.727 | N20: 8626.965 | P20: =IF(OR(H20="NA",E20="NA",F20="NA",G20="NA"),"NA",SUM(H20)-SUM(E20:G20)) -> 0 | Q20: =IF(OR(M20="NA",H20="NA",I20="NA",J20="NA",K20="NA",L20="NA"),"NA",SUM(M20)-SUM(H20:L20)) -> 0
... A22: GXCBN_G14_CA | B22: CIO | C22: Чистый приток денежных средств в результате операционной деятельности (1-2)............................................................................................................................................... | E22: 97.542 | F22: 258.932 | G22: 0 | H22: 356.474 | I22: -160.822 | J22: 1482.16 | K22: 697.768 | L22: 0 | M22: 2375.58 | N22: 195.652 | P22: =IF(OR(H22="NA",E22="NA",F22="NA",G22="NA"),"NA",SUM(H22)-SUM(E22:G22)) -> 0 | Q22: =IF(OR(M22="NA",H22="NA",I22="NA",J22="NA",K22="NA",L22="NA"),"NA",SUM(M22)-SUM(H22:L22)) -> 0
B23: x | C23: ПОТОКИ ДЕНЕЖНЫХ СРЕДСТВ В СВЯЗИ С ОПЕРАЦИЯМИ С НЕФИНАНСОВЫМИ АКТИВАМИ:
A24: GADAN_T_G14_CA | B24: C31 | C24: Чистый отток денежных средств в связи с инвестициями в нефинансовые активы ....................................................................................................................... | E24: 2876.758 | F24: 274.344 | G24: 0 | H24: 3151.102 | I24: 12.142 | J24: 1115.577 | K24: 671.774 | L24: 0 | M24: 4950.595 | N24: 3163.244 | P24: =IF(OR(H24="NA",E24="NA",F24="NA",G24="NA"),"NA",SUM(H24)-SUM(E24:G24)) -> 0 | Q24: =IF(OR(M24="NA",H24="NA",I24="NA",J24="NA",K24="NA",L24="NA"),"NA",SUM(M24)-SUM(H24:L24)) -> 0
A25: GADANF_T_G14_CA | B25: C311 | C25: Основные фонды ............................................................................................................................................................................. | E25: 2328.429 | F25: 114.901 | G25: 0 | H25: 2443.33 | I25: 8.032 | J25: 666.29 | K25: 395.537 | L25: 0 | M25: 3513.189 | N25: 2451.362 | P25: =IF(OR(H25="NA",E25="NA",F25="NA",G25="NA"),"NA",SUM(H25)-SUM(E25:G25)) -> 0 | Q25: =IF(OR(M25="NA",H25="NA",I25="NA",J25="NA",K25="NA",L25="NA"),"NA",SUM(M25)-SUM(H25:L25)) -> 0
A26: GADANI_T_G14_CA | B26: C312 | C26: Запасы материальных оборотных средств ............................................................................................................................................................. | E26: 549.82 | F26: 159.364 | G26: 0 | H26: 709.184 | I26: 3.252 | J26: 453.885 | K26: 303.092 | L26: 0 | M26: 1469.413 | N26: 712.436 | P26: =IF(OR(H26="NA",E26="NA",F26="NA",G26="NA"),"NA",SUM(H26)-SUM(E26:G26)) -> 0 | Q26: =IF(OR(M26="NA",H26="NA",I26="NA",J26="NA",K26="NA",L26="NA"),"NA",SUM(M26)-SUM(H26:L26)) -> 0
A27: GADANV_T_G14_CA | B27: C313 | C27: Ценности .................................................................................................................................................................................... | E27: 0 | F27: 0 | G27: 0 | H27: 0 | I27: 0 | J27: 0 | K27: 0 | L27: 0 | M27: 0 | N27: 0 | P27: =IF(OR(H27="NA",E27="NA",F27="NA",G27="NA"),"NA",SUM(H27)-SUM(E27:G27)) -> 0 | Q27: =IF(OR(M27="NA",H27="NA",I27="NA",J27="NA",K27="NA",L27="NA"),"NA",SUM(M27)-SUM(H27:L27)) -> 0
A28: GADANN_T_G14_CA | B28: C314 | C28: Непроизведенные активы ............................................................................................................................................................ | E28: -1.49 | F28: 0.079 | G28: 0 | H28: -1.411 | I28: 0.858 | J28: -4.598 | K28: -26.854 | L28: 0 | M28: -32.005 | N28: -0.553 | P28: =IF(OR(H28="NA",E28="NA",F28="NA",G28="NA"),"NA",SUM(H28)-SUM(E28:G28)) -> 0 | Q28: =IF(OR(M28="NA",H28="NA",I28="NA",J28="NA",K28="NA",L28="NA"),"NA",SUM(M28)-SUM(H28:L28)) -> 0
A29: GX_G14_CA | B29: C2M | C29: Потоки денежных средств в связи с расходами (2+31) ......................................................................................................................................... | E29: 16150.7 | F29: 1798.932 | G29: -1094.457 | H29: 16855.175 | I29: 11713.656 | J29: 11308.504 | K29: 5710.019 | L29: -13860.939 | M29: 31726.415 | N29: 28568.831 | P29: =IF(OR(H29="NA",E29="NA",F29="NA",G29="NA"),"NA",SUM(H29)-SUM(E29:G29)) -> 0 | Q29: =IF(OR(M29="NA",H29="NA",I29="NA",J29="NA",K29="NA",L29="NA"),"NA",SUM(M29)-SUM(H29:L29)) -> -3.6379788e-12
