Workbook
Name Data_s102: [1]МО!#REF!
Name Data_s102: [2]Лист2!#REF!
Name Data_s112: [2]Лист2!#REF!
Name Data_s42: [1]МО!#REF!
Name Data_s42: [2]Лист2!#REF!
Name Data_s52: [2]Лист2!#REF!
Name Data_s62: [1]МО!#REF!
Name Data_s62: [2]Лист2!#REF!
Name Data_s72: [1]МО!#REF!
Name Data_s72: [2]Лист2!#REF!
Name Data_s82: [1]МО!#REF!
Name Data_s82: [2]Лист2!#REF!
Name DataName: '2.3'!$B$2:$C$2
Name DataName: '2.1'!#REF!
Name DataSpravka: '2.3'!$B$3:$E$89
Name DataSpravka: '2.1'!$B$3:$E$89
Name Name_Spr: '2.3'!#REF!
Name Name_Spr: '2.1'!#REF!
Name ss010b: [3]доходы!$E$30
Name ss010b: [4]доходы!$E$30
Name ss010c: [3]доходы!$F$30
Name ss010c: [4]доходы!$F$30
Name ss010d: [3]доходы!$G$30
Name ss010d: [4]доходы!$G$30
Name ss200c: [1]МО!#REF!
Name ss200c: [2]Лист2!#REF!
Name ss200d: [1]МО!#REF!
Name ss200d: [2]Лист2!#REF!
Name ss200e: [1]МО!#REF!
Name ss200e: [2]Лист2!#REF!
Name XDO_GROUP_?LINE_B1?: [5]Лист1!#REF!
Name XDO_GROUP_?LINE_B2?: [5]Лист1!#REF!
Name XDO_GROUP_?LINE_S1?: [5]Лист1!#REF!
Name XDO_GROUP_?LINE_S1_1?: [5]Лист1!#REF!
Name XDO_GROUP_?LINE_S1_2?: [5]Лист1!#REF!
Name XDO_GROUP_?LINE_S1_3?: [5]Лист1!#REF!
Name ролплалпл: [4]доходы!$G$30

Sheet рейтинг
B1: КАЧЕСТВЕННАЯ ХАРАКТЕРИСТИКА | C1: МИНИМАЛЬНОЕ ЗНАЧЕНИЕ | D1: МАКСИМАЛЬНОЕ ЗНАЧЕНИЕ
B2: отлично | C2: 90.1 | D2: 100
B3: хорошо | C3: 80.1 | D3: 90
B4: удовлетворительно | C4: 70.1 | D4: 80
B5: неудовлетворительно | C5: 0 | D5: 70
A7: № п/п | B7: Наименование ТОФК | C7: 1. Финансовое планирование | D7: 2. Исполнение бюджета в части расходов | E7: 3. Исполнение бюджета по доходам | F7: 4. Исполнение судебных актов | G7: 5. Учет и отчетность | H7: 6. Контроль и аудит | I7: 7. Финансовые риски | J7: ИТОГ | K7: КАЧЕСТВЕННАЯ ОЦЕНКА
A8: 1 | B8: 2 | C8: 3 | D8: 4 | E8: 5 | F8: 6 | G8: 7 | H8: 8 | I8: 9 | J8: 10 | K8: 11
A9: 1 | B9: УФК ПО ТЮМЕНСКОЙ ОБЛАСТИ | C9: =10%*свод!C78 -> 0.05 | D9: =40%*SUM(свод!D78:O78) -> 0.32 | E9: =100%*свод!P78 -> 0.2 | F9: =5%*'4.1'!F77 -> 0.05 | G9: =10%*SUM(свод!S78:V78) -> 0.1 | H9: =10%*SUM(свод!W78:Z78) -> 0.1 | I9: =0.2*SUM(свод!AA78:AB78) -> 0.08 | J9: =SUM(C9:I9)*100 -> 90 | K9: =IF(OR(J9>=$C$2),$B$2,IF(AND(J9>=$C$3,J9<$C$2),$B$3,IF(AND(J9>=$C$4,J9<$C$3),$B$4,$B$5))) -> хорошо
A10: 2 | B10: УФК ПО РЕСПУБЛИКЕ ДАГЕСТАН | C10: =10%*свод!C10 -> 0.05 | D10: =40%*SUM(свод!D10:O10) -> 0.34 | E10: =100%*свод!P10 -> 0.2 | F10: =5%*'4.1'!F9 -> 0.05 | G10: =10%*SUM(свод!S10:V10) -> 0.08 | H10: =10%*SUM(свод!W10:Z10) -> 0.08 | I10: =0.2*SUM(свод!AA10:AB10) -> 0.08 | J10: =SUM(C10:I10)*100 -> 88 | K10: =IF(OR(J10>=$C$2),$B$2,IF(AND(J10>=$C$3,J10<$C$2),$B$3,IF(AND(J10>=$C$4,J10<$C$3),$B$4,$B$5))) -> хорошо
A11: 3 | B11: УФК ПО РЕСПУБЛИКЕ ТЫВА | C11: =10%*свод!C22 -> 0.05 | D11: =40%*SUM(свод!D22:O22) -> 0.28 | E11: =100%*свод!P22 -> 0.2 | F11: =5%*'4.1'!F21 -> 0.05 | G11: =10%*SUM(свод!S22:V22) -> 0.1 | H11: =10%*SUM(свод!W22:Z22) -> 0.085 | I11: =0.2*SUM(свод!AA22:AB22) -> 0.08 | J11: =SUM(C11:I11)*100 -> 84.5 | K11: =IF(OR(J11>=$C$2),$B$2,IF(AND(J11>=$C$3,J11<$C$2),$B$3,IF(AND(J11>=$C$4,J11<$C$3),$B$4,$B$5))) -> хорошо
A12: 4 | B12: УФК ПО ЗАБАЙКАЛЬСКОМУ КРАЮ | C12: =10%*свод!C28 -> 0 | D12: =40%*SUM(свод!D28:O28) -> 0.34 | E12: =100%*свод!P28 -> 0.2 | F12: =5%*'4.1'!F27 -> 0.05 | G12: =10%*SUM(свод!S28:V28) -> 0.1 | H12: =10%*SUM(свод!W28:Z28) -> 0.1 | I12: =0.2*SUM(свод!AA28:AB28) -> 0.04 | J12: =SUM(C12:I12)*100 -> 83 | K12: =IF(OR(J12>=$C$2),$B$2,IF(AND(J12>=$C$3,J12<$C$2),$B$3,IF(AND(J12>=$C$4,J12<$C$3),$B$4,$B$5))) -> хорошо
A13: 5 | B13: УФК ПО АМУРСКОЙ ОБЛАСТИ | C13: =10%*свод!C36 -> 0.05 | D13: =40%*SUM(свод!D36:O36) -> 0.28 | E13: =100%*свод!P36 -> 0.2 | F13: =5%*'4.1'!F35 -> 0.05 | G13: =10%*SUM(свод!S36:V36) -> 0.1 | H13: =10%*SUM(свод!W36:Z36) -> 0.07 | I13: =0.2*SUM(свод!AA36:AB36) -> 0.08 | J13: =SUM(C13:I13)*100 -> 83 | K13: =IF(OR(J13>=$C$2),$B$2,IF(AND(J13>=$C$3,J13<$C$2),$B$3,IF(AND(J13>=$C$4,J13<$C$3),$B$4,$B$5))) -> хорошо
A14: 6 | B14: УФК ПО НОВОСИБИРСКОЙ ОБЛАСТИ | C14: =10%*свод!C61 -> 0.05 | D14: =40%*SUM(свод!D61:O61) -> 0.22 | E14: =100%*свод!P61 -> 0.2 | F14: =5%*'4.1'!F60 -> 0.05 | G14: =10%*SUM(свод!S61:V61) -> 0.1 | H14: =10%*SUM(свод!W61:Z61) -> 0.1 | I14: =0.2*SUM(свод!AA61:AB61) -> 0.08 | J14: =SUM(C14:I14)*100 -> 80 | K14: =IF(OR(J14>=$C$2),$B$2,IF(AND(J14>=$C$3,J14<$C$2),$B$3,IF(AND(J14>=$C$4,J14<$C$3),$B$4,$B$5))) -> удовлетворительно
A15: 7 | B15: УФК ПО УДМУРТСКОЙ РЕСПУБЛИКЕ | C15: =10%*свод!C23 -> 0.05 | D15: =40%*SUM(свод!D23:O23) -> 0.22 | E15: =100%*свод!P23 -> 0.2 | F15: =5%*'4.1'!F22 -> 0.05 | G15: =10%*SUM(свод!S23:V23) -> 0.1 | H15: =10%*SUM(свод!W23:Z23) -> 0.1 | I15: =0.2*SUM(свод!AA23:AB23) -> 0.08 | J15: =SUM(C15:I15)*100 -> 80 | K15: =IF(OR(J15>=$C$2),$B$2,IF(AND(J15>=$C$3,J15<$C$2),$B$3,IF(AND(J15>=$C$4,J15<$C$3),$B$4,$B$5))) -> удовлетворительно
A16: 8 | B16: УФК ПО РЕСПУБЛИКЕ ХАКАСИЯ | C16: =10%*свод!C24 -> 0 | D16: =40%*SUM(свод!D24:O24) -> 0.28 | E16: =100%*свод!P24 -> 0.2 | F16: =5%*'4.1'!F23 -> 0.05 | G16: =10%*SUM(свод!S24:V24) -> 0.08 | H16: =10%*SUM(свод!W24:Z24) -> 0.1 | I16: =0.2*SUM(свод!AA24:AB24) -> 0.04 | J16: =SUM(C16:I16)*100 -> 75 | K16: =IF(OR(J16>=$C$2),$B$2,IF(AND(J16>=$C$3,J16<$C$2),$B$3,IF(AND(J16>=$C$4,J16<$C$3),$B$4,$B$5))) -> удовлетворительно
A17: 9 | B17: УФК ПО КАЛУЖСКОЙ ОБЛАСТИ | C17: =10%*свод!C48 -> 0 | D17: =40%*SUM(свод!D48:O48) -> 0.22 | E17: =100%*свод!P48 -> 0.2 | F17: =5%*'4.1'!F47 -> 0.05 | G17: =10%*SUM(свод!S48:V48) -> 0.1 | H17: =10%*SUM(свод!W48:Z48) -> 0.1 | I17: =0.2*SUM(свод!AA48:AB48) -> 0.08 | J17: =SUM(C17:I17)*100 -> 75 | K17: =IF(OR(J17>=$C$2),$B$2,IF(AND(J17>=$C$3,J17<$C$2),$B$3,IF(AND(J17>=$C$4,J17<$C$3),$B$4,$B$5))) -> удовлетворительно
A18: 10 | B18: УФК ПО КОСТРОМСКОЙ ОБЛАСТИ | C18: =10%*свод!C51 -> 0 | D18: =40%*SUM(свод!D51:O51) -> 0.26 | E18: =100%*свод!P51 -> 0.2 | F18: =5%*'4.1'!F50 -> 0.05 | G18: =10%*SUM(свод!S51:V51) -> 0.1 | H18: =10%*SUM(свод!W51:Z51) -> 0.1 | I18: =0.2*SUM(свод!AA51:AB51) -> 0.04 | J18: =SUM(C18:I18)*100 -> 75 | K18: =IF(OR(J18>=$C$2),$B$2,IF(AND(J18>=$C$3,J18<$C$2),$B$3,IF(AND(J18>=$C$4,J18<$C$3),$B$4,$B$5))) -> удовлетворительно
A19: 11 | B19: УФК ПО СМОЛЕНСКОЙ ОБЛАСТИ | C19: =10%*свод!C73 -> 0 | D19: =40%*SUM(свод!D73:O73) -> 0.22 | E19: =100%*свод!P73 -> 0.2 | F19: =5%*'4.1'!F72 -> 0.05 | G19: =10%*SUM(свод!S73:V73) -> 0.1 | H19: =10%*SUM(свод!W73:Z73) -> 0.1 | I19: =0.2*SUM(свод!AA73:AB73) -> 0.08 | J19: =SUM(C19:I19)*100 -> 75 | K19: =IF(OR(J19>=$C$2),$B$2,IF(AND(J19>=$C$3,J19<$C$2),$B$3,IF(AND(J19>=$C$4,J19<$C$3),$B$4,$B$5))) -> удовлетворительно
A20: 12 | B20: УФК ПО ЧЕЛЯБИНСКОЙ ОБЛАСТИ | C20: =10%*свод!C80 -> 0 | D20: =40%*SUM(свод!D80:O80) -> 0.22 | E20: =100%*свод!P80 -> 0.2 | F20: =5%*'4.1'!F79 -> 0.05 | G20: =10%*SUM(свод!S80:V80) -> 0.1 | H20: =10%*SUM(свод!W80:Z80) -> 0.1 | I20: =0.2*SUM(свод!AA80:AB80) -> 0.08 | J20: =SUM(C20:I20)*100 -> 75 | K20: =IF(OR(J20>=$C$2),$B$2,IF(AND(J20>=$C$3,J20<$C$2),$B$3,IF(AND(J20>=$C$4,J20<$C$3),$B$4,$B$5))) -> удовлетворительно
A21: 13 | B21: УФК ПО КАМЧАТСКОМУ КРАЮ | C21: =10%*свод!C29 -> 0 | D21: =40%*SUM(свод!D29:O29) -> 0.28 | E21: =100%*свод!P29 -> 0.2 | F21: =5%*'4.1'!F28 -> 0.05 | G21: =10%*SUM(свод!S29:V29) -> 0.1 | H21: =10%*SUM(свод!W29:Z29) -> 0.07 | I21: =0.2*SUM(свод!AA29:AB29) -> 0.04 | J21: =SUM(C21:I21)*100 -> 74 | K21: =IF(OR(J21>=$C$2),$B$2,IF(AND(J21>=$C$3,J21<$C$2),$B$3,IF(AND(J21>=$C$4,J21<$C$3),$B$4,$B$5))) -> удовлетворительно
A22: 14 | B22: УФК ПО ЕВРЕЙСКОЙ АВТОНОМНОЙ ОБЛАСТИ | C22: =10%*свод!C86 -> 0 | D22: =40%*SUM(свод!D86:O86) -> 0.22 | E22: =100%*свод!P86 -> 0.2 | F22: =5%*'4.1'!F85 -> 0.05 | G22: =10%*SUM(свод!S86:V86) -> 0.1 | H22: =10%*SUM(свод!W86:Z86) -> 0.085 | I22: =0.2*SUM(свод!AA86:AB86) -> 0.08 | J22: =SUM(C22:I22)*100 -> 73.5 | K22: =IF(OR(J22>=$C$2),$B$2,IF(AND(J22>=$C$3,J22<$C$2),$B$3,IF(AND(J22>=$C$4,J22<$C$3),$B$4,$B$5))) -> удовлетворительно
A23: 15 | B23: УФК ПО РОСТОВСКОЙ ОБЛАСТИ | C23: =10%*свод!C67 -> 0 | D23: =40%*SUM(свод!D67:O67) -> 0.28 | E23: =100%*свод!P67 -> 0.2 | F23: =5%*'4.1'!F66 -> 0.05 | G23: =10%*SUM(свод!S67:V67) -> 0.1 | H23: =10%*SUM(свод!W67:Z67) -> 0.1 | I23: =0.2*SUM(свод!AA67:AB67) -> 0 | J23: =SUM(C23:I23)*100 -> 73 | K23: =IF(OR(J23>=$C$2),$B$2,IF(AND(J23>=$C$3,J23<$C$2),$B$3,IF(AND(J23>=$C$4,J23<$C$3),$B$4,$B$5))) -> удовлетворительно
A24: 16 | B24: УФК ПО ВОЛГОГРАДСКОЙ ОБЛАСТИ | C24: =10%*свод!C42 -> 0 | D24: =40%*SUM(свод!D42:O42) -> 0.28 | E24: =100%*свод!P42 -> 0.2 | F24: =5%*'4.1'!F41 -> 0 | G24: =10%*SUM(свод!S42:V42) -> 0.1 | H24: =10%*SUM(свод!W42:Z42) -> 0.1 | I24: =0.2*SUM(свод!AA42:AB42) -> 0.04 | J24: =SUM(C24:I24)*100 -> 72 | K24: =IF(OR(J24>=$C$2),$B$2,IF(AND(J24>=$C$3,J24<$C$2),$B$3,IF(AND(J24>=$C$4,J24<$C$3),$B$4,$B$5))) -> удовлетворительно
A25: 17 | B25: УФК ПО АЛТАЙСКОМУ КРАЮ | C25: =10%*свод!C27 -> 0 | D25: =40%*SUM(свод!D27:O27) -> 0.22 | E25: =100%*свод!P27 -> 0.2 | F25: =5%*'4.1'!F26 -> 0.05 | G25: =10%*SUM(свод!S27:V27) -> 0.08 | H25: =10%*SUM(свод!W27:Z27) -> 0.08 | I25: =0.2*SUM(свод!AA27:AB27) -> 0.08 | J25: =SUM(C25:I25)*100 -> 71 | K25: =IF(OR(J25>=$C$2),$B$2,IF(AND(J25>=$C$3,J25<$C$2),$B$3,IF(AND(J25>=$C$4,J25<$C$3),$B$4,$B$5))) -> удовлетворительно
A26: 18 | B26: УФК ПО ОРЕНБУРГСКОЙ ОБЛАСТИ | C26: =10%*свод!C63 -> 0 | D26: =40%*SUM(свод!D63:O63) -> 0.22 | E26: =100%*свод!P63 -> 0.2 | F26: =5%*'4.1'!F62 -> 0.05 | G26: =10%*SUM(свод!S63:V63) -> 0.1 | H26: =10%*SUM(свод!W63:Z63) -> 0.1 | I26: =0.2*SUM(свод!AA63:AB63) -> 0.04 | J26: =SUM(C26:I26)*100 -> 71 | K26: =IF(OR(J26>=$C$2),$B$2,IF(AND(J26>=$C$3,J26<$C$2),$B$3,IF(AND(J26>=$C$4,J26<$C$3),$B$4,$B$5))) -> удовлетворительно
A27: 19 | B27: УФК ПО ОМСКОЙ ОБЛАСТИ | C27: =10%*свод!C62 -> 0 | D27: =40%*SUM(свод!D62:O62) -> 0.18 | E27: =100%*свод!P62 -> 0.2 | F27: =5%*'4.1'!F61 -> 0.05 | G27: =10%*SUM(свод!S62:V62) -> 0.1 | H27: =10%*SUM(свод!W62:Z62) -> 0.1 | I27: =0.2*SUM(свод!AA62:AB62) -> 0.08 | J27: =SUM(C27:I27)*100 -> 71 | K27: =IF(OR(J27>=$C$2),$B$2,IF(AND(J27>=$C$3,J27<$C$2),$B$3,IF(AND(J27>=$C$4,J27<$C$3),$B$4,$B$5))) -> удовлетворительно
A28: 20 | B28: МЕЖРЕГИОНАЛЬНОЕ ОПЕРАЦИОННОЕ УФК | C28: =10%*свод!C90 -> 0 | D28: =40%*SUM(свод!D90:O90) -> 0.2 | E28: =100%*свод!P90 -> 0.2 | F28: =5%*'4.1'!F89 -> 0.05 | G28: =10%*SUM(свод!S90:V90) -> 0.1 | H28: =10%*SUM(свод!W90:Z90) -> 0.07 | I28: =0.2*SUM(свод!AA90:AB90) -> 0.08 | J28: =SUM(C28:I28)*100 -> 70 | K28: =IF(OR(J28>=$C$2),$B$2,IF(AND(J28>=$C$3,J28<$C$2),$B$3,IF(AND(J28>=$C$4,J28<$C$3),$B$4,$B$5))) -> неудовлетворительно
A29: 21 | B29: УФК ПО РЕСПУБЛИКЕ БУРЯТИЯ | C29: =10%*свод!C9 -> 0 | D29: =40%*SUM(свод!D9:O9) -> 0.22 | E29: =100%*свод!P9 -> 0.2 | F29: =5%*'4.1'!F8 -> 0 | G29: =10%*SUM(свод!S9:V9) -> 0.1 | H29: =10%*SUM(свод!W9:Z9) -> 0.1 | I29: =0.2*SUM(свод!AA9:AB9) -> 0.08 | J29: =SUM(C29:I29)*100 -> 70 | K29: =IF(OR(J29>=$C$2),$B$2,IF(AND(J29>=$C$3,J29<$C$2),$B$3,IF(AND(J29>=$C$4,J29<$C$3),$B$4,$B$5))) -> неудовлетворительно
A30: 22 | B30: УФК ПО КАЛИНИНГРАДСКОЙ ОБЛАСТИ | C30: =10%*свод!C47 -> 0 | D30: =40%*SUM(свод!D47:O47) -> 0.22 | E30: =100%*свод!P47 -> 0.2 | F30: =5%*'4.1'!F46 -> 0 | G30: =10%*SUM(свод!S47:V47) -> 0.1 | H30: =10%*SUM(свод!W47:Z47) -> 0.1 | I30: =0.2*SUM(свод!AA47:AB47) -> 0.08 | J30: =SUM(C30:I30)*100 -> 70 | K30: =IF(OR(J30>=$C$2),$B$2,IF(AND(J30>=$C$3,J30<$C$2),$B$3,IF(AND(J30>=$C$4,J30<$C$3),$B$4,$B$5))) -> неудовлетворительно
A31: 23 | B31: УФК ПО САМАРСКОЙ ОБЛАСТИ | C31: =10%*свод!C69 -> 0 | D31: =40%*SUM(свод!D69:O69) -> 0.22 | E31: =100%*свод!P69 -> 0.2 | F31: =5%*'4.1'!F68 -> 0 | G31: =10%*SUM(свод!S69:V69) -> 0.1 | H31: =10%*SUM(свод!W69:Z69) -> 0.1 | I31: =0.2*SUM(свод!AA69:AB69) -> 0.08 | J31: =SUM(C31:I31)*100 -> 70 | K31: =IF(OR(J31>=$C$2),$B$2,IF(AND(J31>=$C$3,J31<$C$2),$B$3,IF(AND(J31>=$C$4,J31<$C$3),$B$4,$B$5))) -> неудовлетворительно
A32: 24 | B32: УФК ПО ОРЛОВСКОЙ ОБЛАСТИ | C32: =10%*свод!C64 -> 0 | D32: =40%*SUM(свод!D64:O64) -> 0.18 | E32: =100%*свод!P64 -> 0.2 | F32: =5%*'4.1'!F63 -> 0.05 | G32: =10%*SUM(свод!S64:V64) -> 0.1 | H32: =10%*SUM(свод!W64:Z64) -> 0.08 | I32: =0.2*SUM(свод!AA64:AB64) -> 0.08 | J32: =SUM(C32:I32)*100 -> 69 | K32: =IF(OR(J32>=$C$2),$B$2,IF(AND(J32>=$C$3,J32<$C$2),$B$3,IF(AND(J32>=$C$4,J32<$C$3),$B$4,$B$5))) -> неудовлетворительно
A33: 25 | B33: УФК ПО СТАВРОПОЛЬСКОМУ КРАЮ | C33: =10%*свод!C34 -> 0 | D33: =40%*SUM(свод!D34:O34) -> 0.16 | E33: =100%*свод!P34 -> 0.2 | F33: =5%*'4.1'!F33 -> 0.05 | G33: =10%*SUM(свод!S34:V34) -> 0.1 | H33: =10%*SUM(свод!W34:Z34) -> 0.1 | I33: =0.2*SUM(свод!AA34:AB34) -> 0.08 | J33: =SUM(C33:I33)*100 -> 69 | K33: =IF(OR(J33>=$C$2),$B$2,IF(AND(J33>=$C$3,J33<$C$2),$B$3,IF(AND(J33>=$C$4,J33<$C$3),$B$4,$B$5))) -> неудовлетворительно
A34: 26 | B34: УФК ПО УЛЬЯНОВСКОЙ ОБЛАСТИ | C34: =10%*свод!C79 -> 0 | D34: =40%*SUM(свод!D79:O79) -> 0.22 | E34: =100%*свод!P79 -> 0.2 | F34: =5%*'4.1'!F78 -> 0.05 | G34: =10%*SUM(свод!S79:V79) -> 0.08 | H34: =10%*SUM(свод!W79:Z79) -> 0.1 | I34: =0.2*SUM(свод!AA79:AB79) -> 0.04 | J34: =SUM(C34:I34)*100 -> 69 | K34: =IF(OR(J34>=$C$2),$B$2,IF(AND(J34>=$C$3,J34<$C$2),$B$3,IF(AND(J34>=$C$4,J34<$C$3),$B$4,$B$5))) -> неудовлетворительно
A35: 27 | B35: УФК ПО ЯРОСЛАВСКОЙ ОБЛАСТИ | C35: =10%*свод!C81 -> 0 | D35: =40%*SUM(свод!D81:O81) -> 0.18 | E35: =100%*свод!P81 -> 0.2 | F35: =5%*'4.1'!F80 -> 0.05 | G35: =10%*SUM(свод!S81:V81) -> 0.08 | H35: =10%*SUM(свод!W81:Z81) -> 0.1 | I35: =0.2*SUM(свод!AA81:AB81) -> 0.08 | J35: =SUM(C35:I35)*100 -> 69 | K35: =IF(OR(J35>=$C$2),$B$2,IF(AND(J35>=$C$3,J35<$C$2),$B$3,IF(AND(J35>=$C$4,J35<$C$3),$B$4,$B$5))) -> неудовлетворительно
A36: 28 | B36: УФК ПО РЕСПУБЛИКЕ МОРДОВИЯ | C36: =10%*свод!C18 -> 0 | D36: =40%*SUM(свод!D18:O18) -> 0.2 | E36: =100%*свод!P18 -> 0.2 | F36: =5%*'4.1'!F17 -> 0 | G36: =10%*SUM(свод!S18:V18) -> 0.1 | H36: =10%*SUM(свод!W18:Z18) -> 0.1 | I36: =0.2*SUM(свод!AA18:AB18) -> 0.08 | J36: =SUM(C36:I36)*100 -> 68 | K36: =IF(OR(J36>=$C$2),$B$2,IF(AND(J36>=$C$3,J36<$C$2),$B$3,IF(AND(J36>=$C$4,J36<$C$3),$B$4,$B$5))) -> неудовлетворительно
A37: 29 | B37: УФК ПО ВЛАДИМИРСКОЙ ОБЛАСТИ | C37: =10%*свод!C41 -> 0 | D37: =40%*SUM(свод!D41:O41) -> 0.2 | E37: =100%*свод!P41 -> 0.2 | F37: =5%*'4.1'!F40 -> 0.05 | G37: =10%*SUM(свод!S41:V41) -> 0.08 | H37: =10%*SUM(свод!W41:Z41) -> 0.07 | I37: =0.2*SUM(свод!AA41:AB41) -> 0.08 | J37: =SUM(C37:I37)*100 -> 68 | K37: =IF(OR(J37>=$C$2),$B$2,IF(AND(J37>=$C$3,J37<$C$2),$B$3,IF(AND(J37>=$C$4,J37<$C$3),$B$4,$B$5))) -> неудовлетворительно
A38: 30 | B38: УФК ПО ТОМСКОЙ ОБЛАСТИ | C38: =10%*свод!C76 -> 0 | D38: =40%*SUM(свод!D76:O76) -> 0.16 | E38: =100%*свод!P76 -> 0.2 | F38: =5%*'4.1'!F75 -> 0.05 | G38: =10%*SUM(свод!S76:V76) -> 0.1 | H38: =10%*SUM(свод!W76:Z76) -> 0.085 | I38: =0.2*SUM(свод!AA76:AB76) -> 0.08 | J38: =SUM(C38:I38)*100 -> 67.5 | K38: =IF(OR(J38>=$C$2),$B$2,IF(AND(J38>=$C$3,J38<$C$2),$B$3,IF(AND(J38>=$C$4,J38<$C$3),$B$4,$B$5))) -> неудовлетворительно
A39: 31 | B39: УФК ПО РЯЗАНСКОЙ ОБЛАСТИ | C39: =10%*свод!C68 -> 0 | D39: =40%*SUM(свод!D68:O68) -> 0.16 | E39: =100%*свод!P68 -> 0.2 | F39: =5%*'4.1'!F67 -> 0.05 | G39: =10%*SUM(свод!S68:V68) -> 0.1 | H39: =10%*SUM(свод!W68:Z68) -> 0.08 | I39: =0.2*SUM(свод!AA68:AB68) -> 0.08 | J39: =SUM(C39:I39)*100 -> 67 | K39: =IF(OR(J39>=$C$2),$B$2,IF(AND(J39>=$C$3,J39<$C$2),$B$3,IF(AND(J39>=$C$4,J39<$C$3),$B$4,$B$5))) -> неудовлетворительно
A40: 32 | B40: УФК ПО НИЖЕГОРОДСКОЙ ОБЛАСТИ | C40: =10%*свод!C59 -> 0 | D40: =40%*SUM(свод!D59:O59) -> 0.14 | E40: =100%*свод!P59 -> 0.2 | F40: =5%*'4.1'!F58 -> 0.05 | G40: =10%*SUM(свод!S59:V59) -> 0.1 | H40: =10%*SUM(свод!W59:Z59) -> 0.1 | I40: =0.2*SUM(свод!AA59:AB59) -> 0.08 | J40: =SUM(C40:I40)*100 -> 67 | K40: =IF(OR(J40>=$C$2),$B$2,IF(AND(J40>=$C$3,J40<$C$2),$B$3,IF(AND(J40>=$C$4,J40<$C$3),$B$4,$B$5))) -> неудовлетворительно
A41: 33 | B41: УФК ПО ТАМБОВСКОЙ ОБЛАСТИ | C41: =10%*свод!C74 -> 0 | D41: =40%*SUM(свод!D74:O74) -> 0.14 | E41: =100%*свод!P74 -> 0.2 | F41: =5%*'4.1'!F73 -> 0.05 | G41: =10%*SUM(свод!S74:V74) -> 0.1 | H41: =10%*SUM(свод!W74:Z74) -> 0.1 | I41: =0.2*SUM(свод!AA74:AB74) -> 0.08 | J41: =SUM(C41:I41)*100 -> 67 | K41: =IF(OR(J41>=$C$2),$B$2,IF(AND(J41>=$C$3,J41<$C$2),$B$3,IF(AND(J41>=$C$4,J41<$C$3),$B$4,$B$5))) -> неудовлетворительно
...

Sheet свод
A4: № п/п | B4: Наименование ТОФК | C4: 1.1 Объем ЛБО на поставку товаров, выполнение работ, оказание услуг, по которым не были в отчетном финансовом году заключены государственные контракты, коэффициент показателя - 0,50 | D4: 2.1 Объем неисполненных на конец отчетного финансового года ЛБО, коэффициент показателя - 0,15 | E4: 2.2 Объем восстановленных бюджетных обязательств ЛБО на оплату заключенных государтсвенных контрактов на поставку товаров,выполнение работ, оказание услуг, подлежащих в соответствии с условиями этих государственных контрактов оплате в отчетном финансовом году, коэффициент показателя - 0,15 | F4: 2.3 Равномерность исполнения федерального бюджета по расходам по главе 100 "Федеральное казначейство", коэффициент показателя - 0,15 | G4: 2.4 Отклонение кассовых выплат ТОФК в IV квартале отчетного периода от прогноза кассовых выплат по расходам федерального бюджета по главе 100 "Федеральное казначейство", коэффициент показателя - 0,15 | H4: 2.5 Управление кредиторской задолженностью по расчетам с поставщиками и подрядчиками, коэффициент показателя - 0,05 | I4: 2.6 Наличие и своевременность восстановления дебиторской задолженности по страховым взносам на обязательное социальное страхование на случай временной нетрудоспособности и в связи с материнством, коэффициент показателя - 0,05 | J4: 2.7 Управление дебиторской задолженностью по расчетам по налогу на имущество организаций и земельному налогу, коэффициент показателя - 0,05 | K4: 2.8 Управление кредиторской задолженностью по страховым взносам в Пенсионный фонд Российской Федерации и Федеральный фонд обязательного медицинского страхования, коэффициент показателя - 0,05 | L4: 2.9 Управление дебиторской задолженностью по налогу на доходы физических лиц, коэффициент показателя - 0,05 | M4: 2.10 Управление кредиторской задолженностью по заработной плате, коэффициент показателя - 0,05 | N4: 2.11 Наличие просроченной дебиторской задолженности, коэффициент показателя - 0,05 | O4: 2.12 Объем просроченной дебиторской задолженности, коэффициент показателя - 0,05 | P4: 3.1. Управление дебиторской задолженностью по расчетам с дебиторами (в части невыясненных поступлений), коэффициент показателя - 0,20 | Q4: 3.2. Отклонение кассовых поступлений по доходам федерального бюджета по главе 100 "Федеральное казначейство" от прогноза кассовых поступлений по доходам IV квартале отчетного периода, коэффициент показателя - 0,80 | R4: 4.1. Вступившие в законную силу судебные акты, удовлетворящих полностью или частично требования к ТОФК (в денежном выражении), коэффициент показателя - 1,00 | S4: 5.1 Отношение расходов на ремонт и техническое обслуживание к основным средствам, коэффициент показателя - 0,20 | T4: 5.2. Объем материальных запасов, коэффициент показателя - 0,20 | U4: 5.3. Своевременность представления бюджетной отчетности и формы 14, коэффициент показателя - 0,25 | V4: 5.4. Качество представления бюджетной отчетности, коэффициент показателя - 0,35 | W4: 6.1 Осуществление мероприятий внутреннего контроля, коэффициент показателя - 0,20 | X4: 6.2 Проведение инвентаризации, коэффициент показателя - 0,20 | Y4: 6.3 Объем недостач и хищений денежных средств и материальных запасов, коэффициент показателя - 0,30 | Z4: 6.4 Оценка затрат на 1 штатную единицу утвержденной предельной численности федеральных государственных гражданских служащих и работников, замещающих должности, не являющиеся должностями федеральных государственной гражданской службы, ТОФК, коэффициент показателя - 0,30 | AA4: 7.1. Своевременность направления информации и документов о заключенных государтсвенных контрактах в реестр контрактов, коэффициент показателя - 0,20 | AB4: 7.2. Своевременность направления информации и документов об исполнении государственных контрактов, коэффициент показателя - 0,20
A5: 1 | B5: 2 | C5: 3 | D5: 4 | E5: 5 | F5: 6 | G5: 7 | H5: 8 | I5: 9 | J5: 10 | K5: 11 | L5: 12 | M5: 13 | N5: 14 | O5: 15 | P5: 16 | Q5: 17 | R5: 18 | S5: 19 | T5: 20 | U5: 21 | V5: 22 | W5: 23 | X5: 24 | Y5: 25 | Z5: 26 | AA5: 27 | AB5: 28
A6: 1 | B6: УФК ПО РЕСПУБЛИКЕ АДЫГЕЯ | C6: =0.5*'1.1'!Q5 -> 0.5 | D6: =0.15*'2.1'!G5 -> 0 | E6: =0.15*'2.2'!F5 -> 0 | F6: =0.15*'2.3'!H5 -> 0 | G6: =0.15*'2.4'!AH6 -> 0.15 | H6: =0.05*'2.5'!I5 -> 0.05 | I6: =0.05*'2.6'!D5 -> 0.05 | J6: =0.05*'2.7'!D5 -> 0.05 | K6: =0.05*'2.8'!D5 -> 0.05 | L6: =0.05*'2.9'!D5 -> 0.05 | M6: =0.05*'2.10'!D5 -> 0.05 | N6: =0.05*'2.11'!D5 -> 0 | O6: =0.05*'2.12'!G5 -> 0 | P6: =0.2*'3.1'!G5 -> 0 | Q6: =0.8*'3.2'!F5 -> 0.8 | R6: =1*'4.1'!F5 -> 1 | S6: =0.2*'5.1'!F6 -> 0.2 | T6: =0.2*'5.2'!F5 -> 0.2 | U6: =0.25*'5.3'!C5 -> 0.25 | V6: =0.35*'5.4'!C5 -> 0.35 | W6: =0.2*'6.1'!C5 -> 0.2 | X6: =0.2*'6.2'!C5 -> 0.2 | Y6: =0.3*'6.3'!I5 -> 0.3 | Z6: =0.3*'6.4'!F5 -> 0.3 | AA6: =0.2*'7.1'!D5 -> 0.2 | AB6: =0.2*'7.2'!D5 -> 0.2
A7: 2 | B7: УФК ПО РЕСПУБЛИКЕ АЛТАЙ | C7: =0.5*'1.1'!Q6 -> 0.5 | D7: =0.15*'2.1'!G6 -> 0.15 | E7: =0.15*'2.2'!F6 -> 0 | F7: =0.15*'2.3'!H6 -> 0 | G7: =0.15*'2.4'!AH7 -> 0.15 | H7: =0.05*'2.5'!I6 -> 0.05 | I7: =0.05*'2.6'!D6 -> 0.05 | J7: =0.05*'2.7'!D6 -> 0.05 | K7: =0.05*'2.8'!D6 -> 0.05 | L7: =0.05*'2.9'!D6 -> 0.05 | M7: =0.05*'2.10'!D6 -> 0.05 | N7: =0.05*'2.11'!D6 -> 0.05 | O7: =0.05*'2.12'!G6 -> 0.05 | P7: =0.2*'3.1'!G6 -> 0 | Q7: =0.8*'3.2'!F6 -> 0.8 | R7: =1*'4.1'!F6 -> 1 | S7: =0.2*'5.1'!F7 -> 0.2 | T7: =0.2*'5.2'!F6 -> 0 | U7: =0.25*'5.3'!C6 -> 0.25 | V7: =0.35*'5.4'!C6 -> 0.35 | W7: =0.2*'6.1'!C6 -> 0.2 | X7: =0.2*'6.2'!C6 -> 0.2 | Y7: =0.3*'6.3'!I6 -> 0.3 | Z7: =0.3*'6.4'!F6 -> 0.3 | AA7: =0.2*'7.1'!D6 -> 0.2 | AB7: =0.2*'7.2'!D6 -> 0.2
A8: 3 | B8: УФК ПО РЕСПУБЛИКЕ БАШКОРТОСТАН | C8: =0.5*'1.1'!Q7 -> 0 | D8: =0.15*'2.1'!G7 -> 0 | E8: =0.15*'2.2'!F7 -> 0 | F8: =0.15*'2.3'!H7 -> 0 | G8: =0.15*'2.4'!AH8 -> 0 | H8: =0.05*'2.5'!I7 -> 0.05 | I8: =0.05*'2.6'!D7 -> 0.05 | J8: =0.05*'2.7'!D7 -> 0.05 | K8: =0.05*'2.8'!D7 -> 0.05 | L8: =0.05*'2.9'!D7 -> 0.05 | M8: =0.05*'2.10'!D7 -> 0.05 | N8: =0.05*'2.11'!D7 -> 0.05 | O8: =0.05*'2.12'!G7 -> 0.05 | P8: =0.2*'3.1'!G7 -> 0.2 | Q8: =0.8*'3.2'!F7 -> 0 | R8: =1*'4.1'!F7 -> 1 | S8: =0.2*'5.1'!F8 -> 0.2 | T8: =0.2*'5.2'!F7 -> 0.2 | U8: =0.25*'5.3'!C7 -> 0.25 | V8: =0.35*'5.4'!C7 -> 0.35 | W8: =0.2*'6.1'!C7 -> 0 | X8: =0.2*'6.2'!C7 -> 0.2 | Y8: =0.3*'6.3'!I7 -> 0.3 | Z8: =0.3*'6.4'!F7 -> 0.3 | AA8: =0.2*'7.1'!D7 -> 0.2 | AB8: =0.2*'7.2'!D7 -> 0
A9: 4 | B9: УФК ПО РЕСПУБЛИКЕ БУРЯТИЯ | C9: =0.5*'1.1'!Q8 -> 0 | D9: =0.15*'2.1'!G8 -> 0.15 | E9: =0.15*'2.2'!F8 -> 0 | F9: =0.15*'2.3'!H8 -> 0 | G9: =0.15*'2.4'!AH9 -> 0 | H9: =0.05*'2.5'!I8 -> 0.05 | I9: =0.05*'2.6'!D8 -> 0.05 | J9: =0.05*'2.7'!D8 -> 0.05 | K9: =0.05*'2.8'!D8 -> 0.05 | L9: =0.05*'2.9'!D8 -> 0.05 | M9: =0.05*'2.10'!D8 -> 0.05 | N9: =0.05*'2.11'!D8 -> 0.05 | O9: =0.05*'2.12'!G8 -> 0.05 | P9: =0.2*'3.1'!G8 -> 0.2 | Q9: =0.8*'3.2'!F8 -> 0 | R9: =1*'4.1'!F8 -> 0 | S9: =0.2*'5.1'!F9 -> 0.2 | T9: =0.2*'5.2'!F8 -> 0.2 | U9: =0.25*'5.3'!C8 -> 0.25 | V9: =0.35*'5.4'!C8 -> 0.35 | W9: =0.2*'6.1'!C8 -> 0.2 | X9: =0.2*'6.2'!C8 -> 0.2 | Y9: =0.3*'6.3'!I8 -> 0.3 | Z9: =0.3*'6.4'!F8 -> 0.3 | AA9: =0.2*'7.1'!D8 -> 0.2 | AB9: =0.2*'7.2'!D8 -> 0.2
A10: 5 | B10: УФК ПО РЕСПУБЛИКЕ ДАГЕСТАН | C10: =0.5*'1.1'!Q9 -> 0.5 | D10: =0.15*'2.1'!G9 -> 0.15 | E10: =0.15*'2.2'!F9 -> 0.15 | F10: =0.15*'2.3'!H9 -> 0 | G10: =0.15*'2.4'!AH10 -> 0.15 | H10: =0.05*'2.5'!I9 -> 0.05 | I10: =0.05*'2.6'!D9 -> 0.05 | J10: =0.05*'2.7'!D9 -> 0.05 | K10: =0.05*'2.8'!D9 -> 0.05 | L10: =0.05*'2.9'!D9 -> 0.05 | M10: =0.05*'2.10'!D9 -> 0.05 | N10: =0.05*'2.11'!D9 -> 0.05 | O10: =0.05*'2.12'!G9 -> 0.05 | P10: =0.2*'3.1'!G9 -> 0.2 | Q10: =0.8*'3.2'!F9 -> 0.8 | R10: =1*'4.1'!F9 -> 1 | S10: =0.2*'5.1'!F10 -> 0.2 | T10: =0.2*'5.2'!F9 -> 0 | U10: =0.25*'5.3'!C9 -> 0.25 | V10: =0.35*'5.4'!C9 -> 0.35 | W10: =0.2*'6.1'!C9 -> 0 | X10: =0.2*'6.2'!C9 -> 0.2 | Y10: =0.3*'6.3'!I9 -> 0.3 | Z10: =0.3*'6.4'!F9 -> 0.3 | AA10: =0.2*'7.1'!D9 -> 0.2 | AB10: =0.2*'7.2'!D9 -> 0.2
A11: 6 | B11: УФК ПО РЕСПУБЛИКЕ ИНГУШЕТИЯ | C11: =0.5*'1.1'!Q10 -> 0.5 | D11: =0.15*'2.1'!G10 -> 0 | E11: =0.15*'2.2'!F10 -> 0.15 | F11: =0.15*'2.3'!H10 -> 0 | G11: =0.15*'2.4'!AH11 -> 0 | H11: =0.05*'2.5'!I10 -> 0.05 | I11: =0.05*'2.6'!D10 -> 0.05 | J11: =0.05*'2.7'!D10 -> 0.05 | K11: =0.05*'2.8'!D10 -> 0.05 | L11: =0.05*'2.9'!D10 -> 0.05 | M11: =0.05*'2.10'!D10 -> 0.05 | N11: =0.05*'2.11'!D10 -> 0 | O11: =0.05*'2.12'!G10 -> 0 | P11: =0.2*'3.1'!G10 -> 0 | Q11: =0.8*'3.2'!F10 -> 0 | R11: =1*'4.1'!F10 -> 1 | S11: =0.2*'5.1'!F11 -> 0.2 | T11: =0.2*'5.2'!F10 -> 0.2 | U11: =0.25*'5.3'!C10 -> 0.25 | V11: =0.35*'5.4'!C10 -> 0.35 | W11: =0.2*'6.1'!C10 -> 0.2 | X11: =0.2*'6.2'!C10 -> 0.2 | Y11: =0.3*'6.3'!I10 -> 0.3 | Z11: =0.3*'6.4'!F10 -> 0.3 | AA11: =0.2*'7.1'!D10 -> 0 | AB11: =0.2*'7.2'!D10 -> 0
A12: 7 | B12: УФК ПО КАБАРДИНО-БАЛКАРСКОЙ РЕСПУБЛИКЕ | C12: =0.5*'1.1'!Q11 -> 0 | D12: =0.15*'2.1'!G11 -> 0 | E12: =0.15*'2.2'!F11 -> 0 | F12: =0.15*'2.3'!H11 -> 0 | G12: =0.15*'2.4'!AH12 -> 0 | H12: =0.05*'2.5'!I11 -> 0.05 | I12: =0.05*'2.6'!D11 -> 0.05 | J12: =0.05*'2.7'!D11 -> 0.05 | K12: =0.05*'2.8'!D11 -> 0.05 | L12: =0.05*'2.9'!D11 -> 0.05 | M12: =0.05*'2.10'!D11 -> 0.05 | N12: =0.05*'2.11'!D11 -> 0.05 | O12: =0.05*'2.12'!G11 -> 0.05 | P12: =0.2*'3.1'!G11 -> 0.2 | Q12: =0.8*'3.2'!F11 -> 0 | R12: =1*'4.1'!F11 -> 0 | S12: =0.2*'5.1'!F12 -> 0.2 | T12: =0.2*'5.2'!F11 -> 0 | U12: =0.25*'5.3'!C11 -> 0.25 | V12: =0.35*'5.4'!C11 -> 0.35 | W12: =0.2*'6.1'!C11 -> 0 | X12: =0.2*'6.2'!C11 -> 0.2 | Y12: =0.3*'6.3'!I11 -> 0.3 | Z12: =0.3*'6.4'!F11 -> 0.3 | AA12: =0.2*'7.1'!D11 -> 0 | AB12: =0.2*'7.2'!D11 -> 0.2
A13: 8 | B13: УФК ПО РЕСПУБЛИКЕ КАЛМЫКИЯ | C13: =0.5*'1.1'!Q12 -> 0.5 | D13: =0.15*'2.1'!G12 -> 0.15 | E13: =0.15*'2.2'!F12 -> 0.15 | F13: =0.15*'2.3'!H12 -> 0 | G13: =0.15*'2.4'!AH13 -> 0.15 | H13: =0.05*'2.5'!I12 -> 0.05 | I13: =0.05*'2.6'!D12 -> 0.05 | J13: =0.05*'2.7'!D12 -> 0.05 | K13: =0.05*'2.8'!D12 -> 0.05 | L13: =0.05*'2.9'!D12 -> 0.05 | M13: =0.05*'2.10'!D12 -> 0.05 | N13: =0.05*'2.11'!D12 -> 0.05 | O13: =0.05*'2.12'!G12 -> 0.05 | P13: =0.2*'3.1'!G12 -> 0 | Q13: =0.8*'3.2'!F12 -> 0 | R13: =1*'4.1'!F12 -> 0 | S13: =0.2*'5.1'!F13 -> 0.2 | T13: =0.2*'5.2'!F12 -> 0.2 | U13: =0.25*'5.3'!C12 -> 0.25 | V13: =0.35*'5.4'!C12 -> 0.35 | W13: =0.2*'6.1'!C12 -> 0.2 | X13: =0.2*'6.2'!C12 -> 0.2 | Y13: =0.3*'6.3'!I12 -> 0.3 | Z13: =0.3*'6.4'!F12 -> 0.3 | AA13: =0.2*'7.1'!D12 -> 0.2 | AB13: =0.2*'7.2'!D12 -> 0
A14: 9 | B14: УФК ПО КАРАЧАЕВО-ЧЕРКЕССКОЙ РЕСПУБЛИКЕ | C14: =0.5*'1.1'!Q13 -> 0.5 | D14: =0.15*'2.1'!G13 -> 0.15 | E14: =0.15*'2.2'!F13 -> 0.15 | F14: =0.15*'2.3'!H13 -> 0 | G14: =0.15*'2.4'!AH14 -> 0 | H14: =0.05*'2.5'!I13 -> 0.05 | I14: =0.05*'2.6'!D13 -> 0.05 | J14: =0.05*'2.7'!D13 -> 0.05 | K14: =0.05*'2.8'!D13 -> 0.05 | L14: =0.05*'2.9'!D13 -> 0.05 | M14: =0.05*'2.10'!D13 -> 0.05 | N14: =0.05*'2.11'!D13 -> 0.05 | O14: =0.05*'2.12'!G13 -> 0.05 | P14: =0.2*'3.1'!G13 -> 0 | Q14: =0.8*'3.2'!F13 -> 0.8 | R14: =1*'4.1'!F13 -> 1 | S14: =0.2*'5.1'!F14 -> 0 | T14: =0.2*'5.2'!F13 -> 0 | U14: =0.25*'5.3'!C13 -> 0.25 | V14: =0.35*'5.4'!C13 -> 0.35 | W14: =0.2*'6.1'!C13 -> 0.2 | X14: =0.2*'6.2'!C13 -> 0.2 | Y14: =0.3*'6.3'!I13 -> 0.3 | Z14: =0.3*'6.4'!F13 -> 0 | AA14: =0.2*'7.1'!D13 -> 0.2 | AB14: =0.2*'7.2'!D13 -> 0.2
A15: 10 | B15: УФК ПО РЕСПУБЛИКЕ КАРЕЛИЯ | C15: =0.5*'1.1'!Q14 -> 0 | D15: =0.15*'2.1'!G14 -> 0 | E15: =0.15*'2.2'!F14 -> 0 | F15: =0.15*'2.3'!H14 -> 0 | G15: =0.15*'2.4'!AH15 -> 0.15 | H15: =0.05*'2.5'!I14 -> 0.05 | I15: =0.05*'2.6'!D14 -> 0.05 | J15: =0.05*'2.7'!D14 -> 0.05 | K15: =0.05*'2.8'!D14 -> 0.05 | L15: =0.05*'2.9'!D14 -> 0.05 | M15: =0.05*'2.10'!D14 -> 0.05 | N15: =0.05*'2.11'!D14 -> 0.05 | O15: =0.05*'2.12'!G14 -> 0 | P15: =0.2*'3.1'!G14 -> 0.2 | Q15: =0.8*'3.2'!F14 -> 0 | R15: =1*'4.1'!F14 -> 1 | S15: =0.2*'5.1'!F15 -> 0.2 | T15: =0.2*'5.2'!F14 -> 0.2 | U15: =0.25*'5.3'!C14 -> 0.25 | V15: =0.35*'5.4'!C14 -> 0.35 | W15: =0.2*'6.1'!C14 -> 0.2 | X15: =0.2*'6.2'!C14 -> 0.2 | Y15: =0.3*'6.3'!I14 -> 0.3 | Z15: =0.3*'6.4'!F14 -> 0.15 | AA15: =0.2*'7.1'!D14 -> 0 | AB15: =0.2*'7.2'!D14 -> 0
A16: 11 | B16: УФК ПО РЕСПУБЛИКЕ КОМИ | C16: =0.5*'1.1'!Q15 -> 0 | D16: =0.15*'2.1'!G15 -> 0 | E16: =0.15*'2.2'!F15 -> 0 | F16: =0.15*'2.3'!H15 -> 0 | G16: =0.15*'2.4'!AH16 -> 0.15 | H16: =0.05*'2.5'!I15 -> 0.05 | I16: =0.05*'2.6'!D15 -> 0.05 | J16: =0.05*'2.7'!D15 -> 0.05 | K16: =0.05*'2.8'!D15 -> 0.05 | L16: =0.05*'2.9'!D15 -> 0.05 | M16: =0.05*'2.10'!D15 -> 0.05 | N16: =0.05*'2.11'!D15 -> 0.05 | O16: =0.05*'2.12'!G15 -> 0.05 | P16: =0.2*'3.1'!G15 -> 0.2 | Q16: =0.8*'3.2'!F15 -> 0 | R16: =1*'4.1'!F15 -> 1 | S16: =0.2*'5.1'!F16 -> 0.2 | T16: =0.2*'5.2'!F15 -> 0.2 | U16: =0.25*'5.3'!C15 -> 0.25 | V16: =0.35*'5.4'!C15 -> 0.35 | W16: =0.2*'6.1'!C15 -> 0 | X16: =0.2*'6.2'!C15 -> 0.2 | Y16: =0.3*'6.3'!I15 -> 0.3 | Z16: =0.3*'6.4'!F15 -> 0 | AA16: =0.2*'7.1'!D15 -> 0.2 | AB16: =0.2*'7.2'!D15 -> 0
A17: 12 | B17: УФК ПО РЕСПУБЛИКЕ МАРИЙ ЭЛ | C17: =0.5*'1.1'!Q16 -> 0 | D17: =0.15*'2.1'!G16 -> 0 | E17: =0.15*'2.2'!F16 -> 0 | F17: =0.15*'2.3'!H16 -> 0 | G17: =0.15*'2.4'!AH17 -> 0.15 | H17: =0.05*'2.5'!I16 -> 0.05 | I17: =0.05*'2.6'!D16 -> 0.05 | J17: =0.05*'2.7'!D16 -> 0.05 | K17: =0.05*'2.8'!D16 -> 0.05 | L17: =0.05*'2.9'!D16 -> 0.05 | M17: =0.05*'2.10'!D16 -> 0.05 | N17: =0.05*'2.11'!D16 -> 0.05 | O17: =0.05*'2.12'!G16 -> 0.05 | P17: =0.2*'3.1'!G16 -> 0 | Q17: =0.8*'3.2'!F16 -> 0 | R17: =1*'4.1'!F16 -> 1 | S17: =0.2*'5.1'!F17 -> 0.2 | T17: =0.2*'5.2'!F16 -> 0.2 | U17: =0.25*'5.3'!C16 -> 0.25 | V17: =0.35*'5.4'!C16 -> 0.35 | W17: =0.2*'6.1'!C16 -> 0.2 | X17: =0.2*'6.2'!C16 -> 0.2 | Y17: =0.3*'6.3'!I16 -> 0.3 | Z17: =0.3*'6.4'!F16 -> 0.3 | AA17: =0.2*'7.1'!D16 -> 0 | AB17: =0.2*'7.2'!D16 -> 0.2
... A90: 85 | B90: МЕЖРЕГИОНАЛЬНОЕ ОПЕРАЦИОННОЕ УФК | C90: =0.5*'1.1'!Q89 -> 0 | D90: =0.15*'2.1'!G89 -> 0 | E90: =0.15*'2.2'!F89 -> 0 | F90: =0.15*'2.3'!H89 -> 0 | G90: =0.15*'2.4'!AH90 -> 0.15 | H90: =0.05*'2.5'!I89 -> 0.05 | I90: =0.05*'2.6'!D89 -> 0 | J90: =0.05*'2.7'!D89 -> 0.05 | K90: =0.05*'2.8'!D89 -> 0.05 | L90: =0.05*'2.9'!D89 -> 0.05 | M90: =0.05*'2.10'!D89 -> 0.05 | N90: =0.05*'2.11'!D89 -> 0.05 | O90: =0.05*'2.12'!G89 -> 0.05 | P90: =0.2*'3.1'!G89 -> 0.2 | Q90: =0.8*'3.2'!F89 -> 0.8 | R90: =1*'4.1'!F89 -> 1 | S90: =0.2*'5.1'!F90 -> 0.2 | T90: =0.2*'5.2'!F89 -> 0.2 | U90: =0.25*'5.3'!C89 -> 0.25 | V90: =0.35*'5.4'!C89 -> 0.35 | W90: =0.2*'6.1'!C89 -> 0.2 | X90: =0.2*'6.2'!C89 -> 0.2 | Y90: =0.3*'6.3'!I89 -> 0.3 | Z90: =0.3*'6.4'!F89 -> 0 | AA90: =0.2*'7.1'!D89 -> 0.2 | AB90: =0.2*'7.2'!D89 -> 0.2
C91: =0.5*'1.1'!Q90 -> 0 | D91: =COUNTIF(D6:D90,">0") -> 22 | E91: =COUNTIF(E6:E90,">0") -> 15 | F91: =COUNTIF(F6:F90,">0") -> 4 | G91: =COUNTIF(G6:G90,">0") -> 55 | H91: =COUNTIF(H6:H90,">0") -> 83 | I91: =COUNTIF(I6:I90,">0") -> 77 | J91: =COUNTIF(J6:J90,">0") -> 85 | K91: =COUNTIF(K6:K90,">0") -> 85 | ... N91: =COUNTIF(N6:N90,">0") -> 75 | O91: =0.05*'2.12'!G90 -> 0 | P91: =0.2*'3.1'!G90 -> 0 | Q91: =0.8*'3.2'!F90 -> 0 | R91: =COUNTIF(R6:R90,">0") -> 69 | S91: =COUNTIF(S6:S90,">0") -> 83 | T91: =COUNTIF(T6:T90,">0") -> 69 | U91: =COUNTIF(U6:U90,">0") -> 85 | V91: =COUNTIF(V6:V90,">0") -> 85 | W91: =COUNTIF(W6:W90,">0") -> 65 | X91: =COUNTIF(X6:X90,">0") -> 85 | Y91: =COUNTIF(Y6:Y90,">0") -> 74 | ... AB91: =COUNTIF(AB6:AB90,">0") -> 56

Sheet 1.1
B1: показатель 1.1 "Объем лимитов бюджетных обязательств на поставку товаров, выполнение работ, оказание услуг, по которым в отчетном финансовом году не были заключены государственные контракты, договоры | C1: 242 | E1: 243 | F1: 244 | I1: 412 | J1: 414
A3: № п/п | B3: Наименование ТОФК | C3: 200 | D3: 300 | E3: 200 | F3: 220 | G3: 290 | H3: 300 | I3: 300 | J3: 200 | K3: 300 | L3: Контрактуемые ЛБО, в тыс. руб. | M3: Неисполненные бюджетные обязательства отчетного финансового года, в тыс. руб. | N3: Неиспользованный остаток лимитов бюджетных обязательств отчетного финансового года, в тыс. руб. | O3: Незаконтрактованные ЛБО, в тыс. руб. | P3: Расчет показателя | Q3: Оценка | S3: Неисполненные бюджетные обязательства отчетного финансового года, всего | T3: Неиспользованный остаток лимитов бюджетных обязательств отчетного финансового года | U3: Незаконтрактованные ЛБО
A4: 1 | B4: 2 | L4: 3 | M4: 4 | N4: 5 | O4: 6=5-4 | P4: 7=6/3*100 | Q4: 8
A5: 1 | B5: УФК ПО РЕСПУБЛИКЕ АДЫГЕЯ | C5: 1950.5 | D5: 1226.1 | E5: 0 | F5: 0 | G5: 0 | H5: 0 | I5: 0 | J5: 0 | K5: 0 | L5: 14413.9 | M5: =S5/1000 -> 883.57342 | N5: =T5/1000 -> 883.71199 | O5: =N5-M5 -> 0.13857 | P5: =ROUND(O5/L5,1) -> 0 | Q5: =IF(P5=0,1,0) -> 1 | S5: 883573.42 | T5: 883711.99 | U5: =T5-S5 -> 138.57 | V5: 1
A6: 2 | B6: УФК ПО РЕСПУБЛИКЕ АЛТАЙ | C6: 2995.6 | D6: 1765.3 | E6: 0 | F6: 9854.8 | G6: 0 | H6: 3237.5 | I6: 0 | J6: 0 | K6: 0 | L6: 17853.2 | M6: =S6/1000 -> 59.8955 | N6: =T6/1000 -> 60.03641 | O6: =N6-M6 -> 0.14091 | P6: =ROUND(O6/L6,1) -> 0 | Q6: =IF(P6=0,1,0) -> 1 | S6: 59895.5 | T6: 60036.41 | U6: =T6-S6 -> 140.91 | V6: 2
A7: 3 | B7: УФК ПО РЕСПУБЛИКЕ БАШКОРТОСТАН | C7: 5085.7 | D7: 5587 | E7: 3335.5 | F7: 27749.9 | G7: 0 | H7: 3353 | I7: 0 | J7: 0 | K7: 0 | L7: 45111.1 | M7: =S7/1000 -> 2595.9439 | N7: =T7/1000 -> 3619.6063 | O7: =N7-M7 -> 1023.6624 | P7: =O7/L7 -> 0.022692029 | Q7: =IF(P7=0,1,0) -> 0 | S7: 2595943.9 | T7: 3619606.3 | U7: =T7-S7 -> 1023662.4 | V7: 3
A8: 4 | B8: УФК ПО РЕСПУБЛИКЕ БУРЯТИЯ | C8: 3611.1 | D8: 1907.5 | E8: 0 | F8: 22397.5 | G8: 0 | H8: 2129.2 | I8: 0 | J8: 0 | K8: 0 | L8: 30045.3 | M8: =S8/1000 -> 43.82327 | N8: =T8/1000 -> 133.93913 | O8: =N8-M8 -> 90.11586 | P8: =O8/L8 -> 0.002999333 | Q8: =IF(P8=0,1,0) -> 0 | S8: 43823.27 | T8: 133939.13 | U8: =T8-S8 -> 90115.86 | V8: 4
A9: 5 | B9: УФК ПО РЕСПУБЛИКЕ ДАГЕСТАН | C9: 6026.1 | D9: 9772.5 | E9: 4635 | F9: 20381.9 | G9: 0 | H9: 12714.3 | I9: 0 | J9: 0 | K9: 0 | L9: 53529.8 | M9: =S9/1000 -> 0 | N9: =T9/1000 -> 0 | O9: =N9-M9 -> 0 | P9: =O9/L9 -> 0 | Q9: =IF(P9=0,1,0) -> 1 | S9: 0 | T9: 0 | U9: =T9-S9 -> 0 | V9: 5
A10: 6 | B10: УФК ПО РЕСПУБЛИКЕ ИНГУШЕТИЯ | C10: 1967.8 | D10: 797.9 | E10: 0 | F10: 10763.2 | G10: 0 | H10: 2330.4 | I10: 0 | J10: 0 | K10: 0 | L10: 15859.3 | M10: =S10/1000 -> 0 | N10: =T10/1000 -> 0 | O10: =N10-M10 -> 0 | P10: =O10/L10 -> 0 | Q10: =IF(P10=0,1,0) -> 1 | S10: 0 | T10: 0 | U10: =T10-S10 -> 0 | V10: 6
A11: 7 | B11: УФК ПО КАБАРДИНО-БАЛКАРСКОЙ РЕСПУБЛИКЕ | C11: 3431 | D11: 1055 | E11: 0 | F11: 15295 | G11: 0 | H11: 2190.7 | I11: 0 | J11: 0 | K11: 0 | L11: 21971.7 | M11: =S11/1000 -> 753.14428 | N11: =T11/1000 -> 3490.7077 | O11: =N11-M11 -> 2737.5635 | P11: =O11/L11 -> 0.12459498 | Q11: =IF(P11=0,1,0) -> 0 | S11: 753144.28 | T11: 3490707.7 | U11: =T11-S11 -> 2737563.5 | V11: 7
A12: 8 | B12: УФК ПО РЕСПУБЛИКЕ КАЛМЫКИЯ | C12: 1573.8 | D12: 1994.2 | E12: 623.7 | F12: 18917.1 | G12: 0 | H12: 3984 | I12: 0 | J12: 0 | K12: 0 | L12: 27092.8 | M12: =S12/1000 -> 0 | N12: =T12/1000 -> 0 | O12: =N12-M12 -> 0 | P12: =O12/L12 -> 0 | Q12: =IF(P12=0,1,0) -> 1 | S12: 0 | T12: 0 | U12: =T12-S12 -> 0 | V12: 8
A13: 9 | B13: УФК ПО КАРАЧАЕВО-ЧЕРКЕССКОЙ РЕСПУБЛИКЕ | C13: 4810.4 | D13: 2711.3 | E13: 0 | F13: 29176.1 | G13: 0 | H13: 36578.8 | I13: 0 | J13: 0 | K13: 0 | L13: 73276.6 | M13: =S13/1000 -> 0 | N13: =T13/1000 -> 0 | O13: =N13-M13 -> 0 | P13: =O13/L13 -> 0 | Q13: =IF(P13=0,1,0) -> 1 | S13: 0 | T13: 0 | U13: =T13-S13 -> 0 | V13: 9
A14: 10 | B14: УФК ПО РЕСПУБЛИКЕ КАРЕЛИЯ | C14: 2782 | D14: 1777.7 | E14: 315 | F14: 17156.2 | G14: 0 | H14: 2568.7 | I14: 0 | J14: 0 | K14: 0 | L14: 24599.6 | M14: =S14/1000 -> 456.33307 | N14: =T14/1000 -> 549.00177 | O14: =N14-M14 -> 92.6687 | P14: =O14/L14 -> 0.0037670816 | Q14: =IF(P14=0,1,0) -> 0 | S14: 456333.07 | T14: 549001.77 | U14: =T14-S14 -> 92668.7 | V14: 10
A15: 11 | B15: УФК ПО РЕСПУБЛИКЕ КОМИ | C15: 2415 | D15: 2211.5 | E15: 0 | F15: 16911.9 | G15: 0 | H15: 2549.6 | I15: 0 | J15: 592.9 | K15: 27515.8 | L15: 52196.7 | M15: =S15/1000 -> 798.04778 | N15: =T15/1000 -> 1598.3249 | O15: =N15-M15 -> 800.27715 | P15: =O15/L15 -> 0.015331949 | Q15: =IF(P15=0,1,0) -> 0 | S15: 798047.78 | T15: 1598324.9 | U15: =T15-S15 -> 800277.15 | V15: 11
A16: 12 | B16: УФК ПО РЕСПУБЛИКЕ МАРИЙ ЭЛ | C16: 2159.1 | D16: 1689.9 | E16: 0 | F16: 15269 | G16: 0 | H16: 1706 | I16: 0 | J16: 0 | K16: 0 | L16: 20824 | M16: =S16/1000 -> 1121.1655 | N16: =T16/1000 -> 1624.8897 | O16: =N16-M16 -> 503.72415 | P16: =O16/L16 -> 0.024189596 | Q16: =IF(P16=0,1,0) -> 0 | S16: 1121165.5 | T16: 1624889.7 | U16: =T16-S16 -> 503724.15 | V16: 12
A17: 13 | B17: УФК ПО РЕСПУБЛИКЕ МОРДОВИЯ | C17: 5256.8 | D17: 2957.8 | E17: 0 | F17: 22736.1 | G17: 0 | H17: 5520.4 | I17: 0 | J17: 0 | K17: 0 | L17: 36471.1 | M17: =S17/1000 -> 1426.4918 | N17: =T17/1000 -> 2137.3579 | O17: =N17-M17 -> 710.86612 | P17: =O17/L17 -> 0.019491217 | Q17: =IF(P17=0,1,0) -> 0 | S17: 1426491.8 | T17: 2137357.9 | U17: =T17-S17 -> 710866.12 | V17: 13
A18: 14 | B18: УФК ПО РЕСПУБЛИКЕ САХА (ЯКУТИЯ) | C18: 6264 | D18: 2207.2 | E18: 0 | F18: 40616.8 | G18: 0 | H18: 2846.9 | I18: 0 | J18: 0 | K18: 0 | L18: 51934.9 | M18: =S18/1000 -> 1800.7895 | N18: =T18/1000 -> 2937.7313 | O18: =N18-M18 -> 1136.9418 | P18: =O18/L18 -> 0.021891672 | Q18: =IF(P18=0,1,0) -> 0 | S18: 1800789.5 | T18: 2937731.3 | U18: =T18-S18 -> 1136941.8 | V18: 14
... A59: 55 | B59: УФК ПО НОВГОРОДСКОЙ ОБЛАСТИ | C59: 3327.6 | D59: 2924.9 | E59: 0 | F59: 18830.9 | G59: 0 | H59: 2589.6 | I59: 0 | J59: 0 | K59: 0 | L59: 27673 | M59: =S59/1000 -> 1804.4724 | N59: =T59/1000 -> 2261.0504 | O59: =N59-M59 -> 456.57798 | P59: =O59/L59 -> 0.016499042 | Q59: =IF(P59=0,1,0) -> 0 | S59: 1804472.4 | T59: 2261050.4 | U59: =T59-S59 -> 456577.98 | V59: 55
A60: 56 | B60: УФК ПО НОВОСИБИРСКОЙ ОБЛАСТИ | C60: 4753.9 | D60: 5658.8 | E60: 9500 | F60: 51647.8 | G60: 0 | H60: 6297.4 | I60: 0 | J60: 0 | K60: 0 | L60: 77857.9 | M60: =S60/1000 -> 622.15448 | N60: =T60/1000 -> 622.77625 | O60: =N60-M60 -> 0.62177 | P60: =ROUND(O60/L60,1) -> 0 | Q60: =IF(P60=0,1,0) -> 1 | S60: 622154.48 | T60: 622776.25 | U60: =T60-S60 -> 621.77 | V60: 56
A61: 57 | B61: УФК ПО ОМСКОЙ ОБЛАСТИ | C61: 4574.3 | D61: 4194.9 | E61: 0 | F61: 31480.1 | G61: 0 | H61: 4381.6 | I61: 0 | J61: 0 | K61: 0 | L61: 44630.9 | M61: =S61/1000 -> 816.41193 | N61: =T61/1000 -> 1313.7712 | O61: =N61-M61 -> 497.35926 | P61: =O61/L61 -> 0.011143832 | Q61: =IF(P61=0,1,0) -> 0 | S61: 816411.93 | T61: 1313771.2 | U61: =T61-S61 -> 497359.26 | V61: 57
A62: 58 | B62: УФК ПО ОРЕНБУРГСКОЙ ОБЛАСТИ | C62: 4612.2 | D62: 3016 | E62: 0 | F62: 24627.5 | G62: 0 | H62: 3214.1 | I62: 0 | J62: 0 | K62: 0 | L62: 35469.8 | M62: =S62/1000 -> 1361.2691 | N62: =T62/1000 -> 1631.3813 | O62: =N62-M62 -> 270.11213 | P62: =O62/L62 -> 0.0076152707 | Q62: =IF(P62=0,1,0) -> 0 | S62: 1361269.1 | T62: 1631381.3 | U62: =T62-S62 -> 270112.13 | V62: 58
A63: 59 | B63: УФК ПО ОРЛОВСКОЙ ОБЛАСТИ | C63: 4401.4 | D63: 2074.2 | E63: 0 | F63: 19961.9 | G63: 0 | H63: 2881 | I63: 0 | J63: 0 | K63: 0 | L63: 29318.5 | M63: =S63/1000 -> 547.13535 | N63: =T63/1000 -> 627.64788 | O63: =N63-M63 -> 80.51253 | P63: =O63/L63 -> 0.002746134 | Q63: =IF(P63=0,1,0) -> 0 | S63: 547135.35 | T63: 627647.88 | U63: =T63-S63 -> 80512.53 | V63: 59
A64: 60 | B64: УФК ПО ПЕНЗЕНСКОЙ ОБЛАСТИ | C64: 5667.2 | D64: 3165.2 | E64: 0 | F64: 43602 | G64: 0 | H64: 3524.7 | I64: 0 | J64: 0 | K64: 0 | L64: 55959.1 | M64: =S64/1000 -> 1312.128 | N64: =T64/1000 -> 1834.2634 | O64: =N64-M64 -> 522.13546 | P64: =O64/L64 -> 0.0093306622 | Q64: =IF(P64=0,1,0) -> 0 | S64: 1312128 | T64: 1834263.4 | U64: =T64-S64 -> 522135.46 | V64: 60
A65: 61 | B65: УФК ПО ПСКОВСКОЙ ОБЛАСТИ | C65: 3180.6 | D65: 1548.9 | E65: 0 | F65: 19014 | G65: 0 | H65: 2935.6 | I65: 76512 | J65: 0 | K65: 0 | L65: 103191.1 | M65: =S65/1000 -> 1443.3455 | N65: =T65/1000 -> 1835.8062 | O65: =N65-M65 -> 392.46074 | P65: =O65/L65 -> 0.0038032421 | Q65: =IF(P65=0,1,0) -> 0 | S65: 1443345.5 | T65: 1835806.2 | U65: =T65-S65 -> 392460.74 | V65: 61
A66: 62 | B66: УФК ПО РОСТОВСКОЙ ОБЛАСТИ | C66: 9941.4 | D66: 13556.7 | E66: 16.2 | F66: 38262.7 | G66: 0 | H66: 5131.4 | I66: 0 | J66: 0 | K66: 0 | L66: 66908.4 | M66: =S66/1000 -> 361.46122 | N66: =T66/1000 -> 364.92814 | O66: =N66-M66 -> 3.46692 | P66: =O66/L66 -> 5.1815915e-05 | Q66: =IF(P66=0,1,0) -> 0 | S66: 361461.22 | T66: 364928.14 | U66: =T66-S66 -> 3466.92 | V66: 62
A67: 63 | B67: УФК ПО РЯЗАНСКОЙ ОБЛАСТИ | C67: 3561.6 | D67: 2531.6 | E67: 0 | F67: 16599 | G67: 0 | H67: 2516.6 | I67: 0 | J67: 0 | K67: 0 | L67: 25208.8 | M67: =S67/1000 -> 702.6173 | N67: =T67/1000 -> 1106.2632 | O67: =N67-M67 -> 403.64587 | P67: =O67/L67 -> 0.016012102 | Q67: =IF(P67=0,1,0) -> 0 | S67: 702617.3 | T67: 1106263.2 | U67: =T67-S67 -> 403645.87 | V67: 63
A68: 64 | B68: УФК ПО САМАРСКОЙ ОБЛАСТИ | C68: 5116.5 | D68: 2912.7 | E68: 0 | F68: 24662.3 | G68: 0 | H68: 3692.6 | I68: 0 | J68: 0 | K68: 0 | L68: 36384.1 | M68: =S68/1000 -> 649.92669 | N68: =T68/1000 -> 704.78929 | O68: =N68-M68 -> 54.8626 | P68: =O68/L68 -> 0.0015078729 | Q68: =IF(P68=0,1,0) -> 0 | S68: 649926.69 | T68: 704789.29 | U68: =T68-S68 -> 54862.6 | V68: 64
A69: 65 | B69: УФК ПО САРАТОВСКОЙ ОБЛАСТИ | C69: 5151.3 | D69: 4589.4 | E69: 0 | F69: 26641.7 | G69: 0 | H69: 4122.1 | I69: 0 | J69: 0 | K69: 0 | L69: 40504.5 | M69: =S69/1000 -> 904.28718 | N69: =T69/1000 -> 1298.6433 | O69: =N69-M69 -> 394.35616 | P69: =O69/L69 -> 0.0097361073 | Q69: =IF(P69=0,1,0) -> 0 | S69: 904287.18 | T69: 1298643.3 | U69: =T69-S69 -> 394356.16 | V69: 65
A70: 66 | B70: УФК ПО САХАЛИНСКОЙ ОБЛАСТИ | C70: 2847.8 | D70: 2138.9 | E70: 1258.8 | F70: 19720.9 | G70: 0 | H70: 2863.7 | I70: 0 | J70: 0 | K70: 0 | L70: 28830.1 | M70: =S70/1000 -> 0 | N70: =T70/1000 -> 0 | O70: =N70-M70 -> 0 | P70: =O70/L70 -> 0 | Q70: =IF(P70=0,1,0) -> 1 | S70: 0 | T70: 0 | U70: =T70-S70 -> 0 | V70: 66
A71: 67 | B71: УФК ПО СВЕРДЛОВСКОЙ ОБЛАСТИ | C71: 7040 | D71: 5274.2 | E71: 0 | F71: 55688.2 | G71: 0 | H71: 2924.8 | I71: 0 | J71: 0 | K71: 0 | L71: 70927.2 | M71: =S71/1000 -> 1198.5011 | N71: =T71/1000 -> 1407.8155 | O71: =N71-M71 -> 209.31438 | P71: =O71/L71 -> 0.0029511158 | Q71: =IF(P71=0,1,0) -> 0 | S71: 1198501.1 | T71: 1407815.5 | U71: =T71-S71 -> 209314.38 | V71: 67
A72: 68 | B72: УФК ПО СМОЛЕНСКОЙ ОБЛАСТИ | C72: 2315.2 | D72: 2648 | E72: 0 | F72: 14504.5 | G72: 0 | H72: 1718.6 | I72: 0 | J72: 0 | K72: 0 | L72: 21186.3 | M72: =S72/1000 -> 491.08903 | N72: =T72/1000 -> 655.97252 | O72: =N72-M72 -> 164.88349 | P72: =O72/L72 -> 0.0077825524 | Q72: =IF(P72=0,1,0) -> 0 | S72: 491089.03 | T72: 655972.52 | U72: =T72-S72 -> 164883.49 | V72: 68
... A89: 85 | B89: МЕЖРЕГИОНАЛЬНОЕ ОПЕРАЦИОННОЕ УФК | C89: 7493.1 | D89: 4268.5 | E89: 0 | F89: 11321.4 | G89: 0 | H89: 390.3 | I89: 0 | J89: 0 | K89: 0 | L89: 23473.3 | M89: =S89/1000 -> 1020.3257 | N89: =T89/1000 -> 1102.1449 | O89: =N89-M89 -> 81.8192 | P89: =O89/L89 -> 0.0034856284 | Q89: =IF(P89=0,1,0) -> 0 | S89: 1020325.7 | T89: 1102144.9 | U89: =T89-S89 -> 81819.2 | V89: 85
B90: Итого | E90: =SUM(E6:E89) -> 294734.1 | F90: =SUM(F6:F89) -> 2303312.9 | L90: =SUM(L5:L89) -> 4041732.8 | M90: =SUM(M5:M89) -> 176876.04 | N90: =SUM(N5:N89) -> 216605.03 | O90: =SUM(O5:O89) -> 39728.988 | S90: =SUM(S6:S89) -> 1.7599247e+08 | T90: =SUM(T6:T89) -> 2.1572132e+08 | U90: =SUM(U6:U89) -> 39728849
O93: макс | P93: =MAX(P5:P89) -> 0.12459498
O94: мин | P94: =MIN(P5:P89) -> 0
O95: мед | P95: =MEDIAN(P5:P89) -> 0.0037670816
O96: среднее | P96: =AVERAGE(P5:P89) -> 0.010973533

Sheet 2.1
B1: показатель 2.1. "Объем неисполненных на конец отчетного финансового года ЛБО"
A3: № | B3: Наименование ТОФК | C3: Объем доведенных до ТОФК ЛБО, в руб. | D3: Кассовое исполнение ТОФК, в руб. | E3: Реквизиты отчета | F3: Объем неисполненных ЛБО | G3: Оценка
A4: 1 | B4: 2 | C4: 3 | D4: 4 | F4: 5=(2-3)/2*100 | G4: 1, если 4<0,2%, 0, если 4>=0,2
A5: {=VLOOKUP(B5,[6]Лист3!$C$4:$D$88,2,FALSE)} -> 1 | B5: УФК ПО РЕСПУБЛИКЕ АДЫГЕЯ | C5: 91572100 | D5: 90386225 | E5: 76 | F5: =(C5-D5)/C5 -> 0.012950183 | G5: =IF(F5<0.2%,1,0) -> 0
A6: {=VLOOKUP(B6,[6]Лист3!$C$4:$D$88,2,FALSE)} -> 2 | B6: УФК ПО РЕСПУБЛИКЕ АЛТАЙ | C6: 106406600 | D6: 1.0633691e+08 | E6: 77 | F6: =(C6-D6)/C6 -> 0.00065496576 | G6: =IF(F6<0.2%,1,0) -> 1
A7: {=VLOOKUP(B7,[6]Лист3!$C$4:$D$88,2,FALSE)} -> 3 | B7: УФК ПО РЕСПУБЛИКЕ БАШКОРТОСТАН | C7: 342826000 | D7: 3.3798738e+08 | E7: 1 | F7: =(C7-D7)/C7 -> 0.014113923 | G7: =IF(F7<0.2%,1,0) -> 0
A8: {=VLOOKUP(B8,[6]Лист3!$C$4:$D$88,2,FALSE)} -> 4 | B8: УФК ПО РЕСПУБЛИКЕ БУРЯТИЯ | C8: 241051500 | D8: 2.4086219e+08 | E8: 2 | F8: =(C8-D8)/C8 -> 0.00078533023 | G8: =IF(F8<0.2%,1,0) -> 1
A9: {=VLOOKUP(B9,[6]Лист3!$C$4:$D$88,2,FALSE)} -> 5 | B9: УФК ПО РЕСПУБЛИКЕ ДАГЕСТАН | C9: 313157700 | D9: 3.1311242e+08 | E9: 3 | F9: =(C9-D9)/C9 -> 0.00014459887 | G9: =IF(F9<0.2%,1,0) -> 1
A10: {=VLOOKUP(B10,[6]Лист3!$C$4:$D$88,2,FALSE)} -> 6 | B10: УФК ПО РЕСПУБЛИКЕ ИНГУШЕТИЯ | C10: 68471400 | D10: 68048326 | E10: 14 | F10: =(C10-D10)/C10 -> 0.006178845 | G10: =IF(F10<0.2%,1,0) -> 0
A11: {=VLOOKUP(B11,[6]Лист3!$C$4:$D$88,2,FALSE)} -> 7 | B11: УФК ПО КАБАРДИНО-БАЛКАРСКОЙ РЕСПУБЛИКЕ | C11: 107298600 | D11: 1.0312985e+08 | E11: 4 | F11: =(C11-D11)/C11 -> 0.038851901 | G11: =IF(F11<0.2%,1,0) -> 0
A12: {=VLOOKUP(B12,[6]Лист3!$C$4:$D$88,2,FALSE)} -> 8 | B12: УФК ПО РЕСПУБЛИКЕ КАЛМЫКИЯ | C12: 95857200 | D12: 95683981 | E12: 5 | F12: =(C12-D12)/C12 -> 0.0018070537 | G12: =IF(F12<0.2%,1,0) -> 1
A13: {=VLOOKUP(B13,[6]Лист3!$C$4:$D$88,2,FALSE)} -> 9 | B13: УФК ПО КАРАЧАЕВО-ЧЕРКЕССКОЙ РЕСПУБЛИКЕ | C13: 149735400 | D13: 1.4948643e+08 | E13: 79 | F13: =(C13-D13)/C13 -> 0.0016627532 | G13: =IF(F13<0.2%,1,0) -> 1
A14: {=VLOOKUP(B14,[6]Лист3!$C$4:$D$88,2,FALSE)} -> 10 | B14: УФК ПО РЕСПУБЛИКЕ КАРЕЛИЯ | C14: 270464000 | D14: 2.6921639e+08 | E14: 6 | F14: =(C14-D14)/C14 -> 0.004612838 | G14: =IF(F14<0.2%,1,0) -> 0
A15: {=VLOOKUP(B15,[6]Лист3!$C$4:$D$88,2,FALSE)} -> 11 | B15: УФК ПО РЕСПУБЛИКЕ КОМИ | C15: 247096500 | D15: 2.4487458e+08 | E15: 7 | F15: =(C15-D15)/C15 -> 0.0089921307 | G15: =IF(F15<0.2%,1,0) -> 0
A16: {=VLOOKUP(B16,[6]Лист3!$C$4:$D$88,2,FALSE)} -> 12 | B16: УФК ПО РЕСПУБЛИКЕ МАРИЙ ЭЛ | C16: 129218100 | D16: 1.2739443e+08 | E16: 8 | F16: =(C16-D16)/C16 -> 0.014113148 | G16: =IF(F16<0.2%,1,0) -> 0
... A89: {=VLOOKUP(B89,[6]Лист3!$C$4:$D$88,2,FALSE)} -> 85 | B89: МЕЖРЕГИОНАЛЬНОЕ ОПЕРАЦИОННОЕ УФК | C89: 407042500 | D89: 4.0592514e+08 | E89: 73 | F89: =(C89-D89)/C89 -> 0.0027450806 | G89: =IF(F89<0.2%,1,0) -> 0
B90: Итого | C90: =SUM(C5:C89) -> 24168634000 | D90: =SUM(D5:D89) -> 2.3914439e+10
D92: макс | F92: =MAX(F5:F89) -> 0.17986445
D93: мин | F93: =MIN(F5:F89) -> 4.1074553e-05
D94: мед | F94: =MEDIAN(F5:F89) -> 0.004612838
D95: среднее | F95: =AVERAGE(F5:F89) -> 0.0096684645

Sheet 2.2
B1: показатель 2.2. "Объем восстановленных ЛБО на оплату заключенных государственных контрактов на поставку товаров,выполнение работ, оказание услуг, подлежащих в соответствии с условиями этих государственных контрактов оплате в отчетном финансовом году"
A3: № | B3: Наименование ТОФК | C3: Неисполненные бюджетные обязательства отчетного финансового года, в руб. | D3: Предложения ТОФК по восстановлению бюджетных обязательств, в руб. | E3: Объем восстановленных ЛБО | F3: Оценка
A4: 1 | B4: 2 | C4: 3 | D4: 4 | E4: 5=4/3*100 | F4: 0, если <100%; 1, если =100%
A5: 1 | B5: УФК ПО РЕСПУБЛИКЕ АДЫГЕЯ | C5: 883573.42 | D5: 182834.79 | E5: =ROUND(IFERROR(D5/C5,0),2) -> 0.21 | F5: =IF(E5=100%,1,IF(AND(C5=0,D5=0),1,0)) -> 0
A6: 2 | B6: УФК ПО РЕСПУБЛИКЕ АЛТАЙ | C6: 59895.5 | D6: 0 | E6: =ROUND(IFERROR(D6/C6,0),2) -> 0 | F6: =IF(E6=100%,1,IF(AND(C6=0,D6=0),1,0)) -> 0
A7: 3 | B7: УФК ПО РЕСПУБЛИКЕ БАШКОРТОСТАН | C7: 2595943.9 | D7: 65833.39 | E7: =ROUND(IFERROR(D7/C7,0),2) -> 0.03 | F7: =IF(E7=100%,1,IF(AND(C7=0,D7=0),1,0)) -> 0
A8: 4 | B8: УФК ПО РЕСПУБЛИКЕ БУРЯТИЯ | C8: 43823.27 | D8: 32259.16 | E8: =ROUND(IFERROR(D8/C8,0),2) -> 0.74 | F8: =IF(E8=100%,1,IF(AND(C8=0,D8=0),1,0)) -> 0
A9: 5 | B9: УФК ПО РЕСПУБЛИКЕ ДАГЕСТАН | C9: 0 | D9: 0 | E9: =ROUND(IFERROR(D9/C9,0),2) -> 0 | F9: =IF(E9=100%,1,IF(AND(C9=0,D9=0),1,0)) -> 1
A10: 6 | B10: УФК ПО РЕСПУБЛИКЕ ИНГУШЕТИЯ | C10: 0 | D10: 0 | E10: =ROUND(IFERROR(D10/C10,0),2) -> 0 | F10: =IF(E10=100%,1,IF(AND(C10=0,D10=0),1,0)) -> 1
A11: 7 | B11: УФК ПО КАБАРДИНО-БАЛКАРСКОЙ РЕСПУБЛИКЕ | C11: 753144.28 | D11: 611696.88 | E11: =ROUND(IFERROR(D11/C11,0),2) -> 0.81 | F11: =IF(E11=100%,1,IF(AND(C11=0,D11=0),1,0)) -> 0
A12: 8 | B12: УФК ПО РЕСПУБЛИКЕ КАЛМЫКИЯ | C12: 0 | D12: 0 | E12: =ROUND(IFERROR(D12/C12,0),2) -> 0 | F12: =IF(E12=100%,1,IF(AND(C12=0,D12=0),1,0)) -> 1
A13: 9 | B13: УФК ПО КАРАЧАЕВО-ЧЕРКЕССКОЙ РЕСПУБЛИКЕ | C13: 0 | D13: 0 | E13: =ROUND(IFERROR(D13/C13,0),2) -> 0 | F13: =IF(E13=100%,1,IF(AND(C13=0,D13=0),1,0)) -> 1
A14: 10 | B14: УФК ПО РЕСПУБЛИКЕ КАРЕЛИЯ | C14: 456333.07 | D14: 44663.52 | E14: =ROUND(IFERROR(D14/C14,0),2) -> 0.1 | F14: =IF(E14=100%,1,IF(AND(C14=0,D14=0),1,0)) -> 0
A15: 11 | B15: УФК ПО РЕСПУБЛИКЕ КОМИ | C15: 798047.78 | D15: 239887.51 | E15: =ROUND(IFERROR(D15/C15,0),2) -> 0.3 | F15: =IF(E15=100%,1,IF(AND(C15=0,D15=0),1,0)) -> 0
A16: 12 | B16: УФК ПО РЕСПУБЛИКЕ МАРИЙ ЭЛ | C16: 1121165.5 | D16: 56273.75 | E16: =ROUND(IFERROR(D16/C16,0),2) -> 0.05 | F16: =IF(E16=100%,1,IF(AND(C16=0,D16=0),1,0)) -> 0
... A89: 85 | B89: МЕЖРЕГИОНАЛЬНОЕ ОПЕРАЦИОННОЕ УФК | C89: 1020325.7 | D89: 372814.56 | E89: =ROUND(IFERROR(D89/C89,0),2) -> 0.37 | F89: =IF(E89=100%,1,IF(AND(C89=0,D89=0),1,0)) -> 0
B90: Итого | C90: =SUM(C5:C89) -> 1.7687604e+08 | D90: 1.1044078e+08
D92: макс | E92: =MAX(E5:E89) -> 1
D93: мин | E93: =MIN(E5:E89) -> 0
D94: мед | E94: =MEDIAN(E5:E89) -> 0.12
D95: среднее | E95: =AVERAGE(E5:E89) -> 0.23458824

Sheet 2.3
B1: показатель 2.3. Равномерность исполнения федерального бюджета по расходам по главе 100 "Федеральное казначейство"
A3: № п/п | B3: Наименование ТОФК | C3: Исполнение федерального бюджета по расходам по главе 100 "Федеральное казначейство" за 3 квартала, в руб. | D3: Исполнение федерального бюджета по расходам по главе 100 "Федеральное казначейство" за год, в руб. | F3: Исполнение федерального бюджета по расходам по главе 100 "Федеральное казначейство" за 4 квартал, в руб. | G3: Равномерность исполнения федерального бюджета по расходам | H3: Оценка
A4: 1 | B4: 2 | C4: 3 | D4: 3 | E4: 4 | F4: 4 | G4: 6=4/3*100 | H4: 1, если <=25%; 0, если >25%
A5: 1 | B5: УФК ПО РЕСПУБЛИКЕ АДЫГЕЯ | C5: 61593986 | D5: 90386225 | F5: =D5-C5 -> 28792239 | G5: =F5/D5 -> 0.31854676 | H5: =IF(G5<=25%,1,0) -> 0
A6: 2 | B6: УФК ПО РЕСПУБЛИКЕ АЛТАЙ | C6: 73364114 | D6: 1.0633691e+08 | F6: =D6-C6 -> 32972794 | G6: =F6/D6 -> 0.31007855 | H6: =IF(G6<=25%,1,0) -> 0
A7: 3 | B7: УФК ПО РЕСПУБЛИКЕ БАШКОРТОСТАН | C7: 2.2936372e+08 | D7: 3.3798738e+08 | F7: =D7-C7 -> 1.0862366e+08 | G7: =F7/D7 -> 0.32138378 | H7: =IF(G7<=25%,1,0) -> 0
A8: 4 | B8: УФК ПО РЕСПУБЛИКЕ БУРЯТИЯ | C8: 1.7322457e+08 | D8: 2.4086219e+08 | F8: =D8-C8 -> 67637625 | G8: =F8/D8 -> 0.28081462 | H8: =IF(G8<=25%,1,0) -> 0
A9: 5 | B9: УФК ПО РЕСПУБЛИКЕ ДАГЕСТАН | C9: 2.0593535e+08 | D9: 3.1311242e+08 | F9: =D9-C9 -> 1.0717707e+08 | G9: =F9/D9 -> 0.34229582 | H9: =IF(G9<=25%,1,0) -> 0
A10: 6 | B10: УФК ПО РЕСПУБЛИКЕ ИНГУШЕТИЯ | C10: 42694267 | D10: 68048326 | F10: =D10-C10 -> 25354059 | G10: =F10/D10 -> 0.37258902 | H10: =IF(G10<=25%,1,0) -> 0
A11: 7 | B11: УФК ПО КАБАРДИНО-БАЛКАРСКОЙ РЕСПУБЛИКЕ | C11: 59073373 | D11: 1.0312985e+08 | F11: =D11-C11 -> 44056473 | G11: =F11/D11 -> 0.42719421 | H11: =IF(G11<=25%,1,0) -> 0
A12: 8 | B12: УФК ПО РЕСПУБЛИКЕ КАЛМЫКИЯ | C12: 68134532 | D12: 95683981 | F12: =D12-C12 -> 27549449 | G12: =F12/D12 -> 0.28792123 | H12: =IF(G12<=25%,1,0) -> 0
A13: 9 | B13: УФК ПО КАРАЧАЕВО-ЧЕРКЕССКОЙ РЕСПУБЛИКЕ | C13: 86021352 | D13: 1.4948643e+08 | F13: =D13-C13 -> 63465075 | G13: =F13/D13 -> 0.4245541 | H13: =IF(G13<=25%,1,0) -> 0
A14: 10 | B14: УФК ПО РЕСПУБЛИКЕ КАРЕЛИЯ | C14: 1.7870076e+08 | D14: 2.6921639e+08 | F14: =D14-C14 -> 90515636 | G14: =F14/D14 -> 0.33621889 | H14: =IF(G14<=25%,1,0) -> 0
A15: 11 | B15: УФК ПО РЕСПУБЛИКЕ КОМИ | C15: 1.7105881e+08 | D15: 2.4487458e+08 | F15: =D15-C15 -> 73815765 | G15: =F15/D15 -> 0.30144316 | H15: =IF(G15<=25%,1,0) -> 0
A16: 12 | B16: УФК ПО РЕСПУБЛИКЕ МАРИЙ ЭЛ | C16: 89717441 | D16: 1.2739443e+08 | F16: =D16-C16 -> 37676984 | G16: =F16/D16 -> 0.29575065 | H16: =IF(G16<=25%,1,0) -> 0
... A89: 85 | B89: МЕЖРЕГИОНАЛЬНОЕ ОПЕРАЦИОННОЕ УФК | C89: 2.2889536e+08 | D89: 4.0592514e+08 | F89: =D89-C89 -> 1.7702978e+08 | G89: =F89/D89 -> 0.43611435 | H89: =IF(G89<=25%,1,0) -> 0
B90: Итого | C90: =SUM(C5:C89) -> 1.5915705e+10 | D90: =SUM(D5:D89) -> 2.3914439e+10

Sheet 2.4
B1: показатель 2.4 Отклонение кассовых выплат ТОФК в IV квартале отчетного периода от прогноза кассовых выплат по расходам федерального бюджета по главе 100 "Федеральное казначейство"
A3: № п/п | B3: Наименование ТОФК | C3: Прогноз кассовых выплат | R3: Группа вида расходов 100 | U3: Группа вида расходов 200 | X3: Группа вида расходов 300 | AA3: Группа вида расходов 400 | AD3: Группа вида расходов 800 | AG3: Среднее отклонение | AH3: Оценка
C4: 100 | F4: 200 | I4: 300 | L4: 400 | O4: 800 | R4: прогноз, в тыс. руб. | S4: факт, в тыс. руб. | T4: отклонение | U4: прогноз, в тыс. руб. | V4: факт, в тыс. руб. | W4: отклонение | X4: прогноз, в тыс. руб. | Y4: факт, в тыс. руб. | Z4: отклонение | AA4: прогноз, в тыс. руб. | AB4: факт, в тыс. руб. | AC4: отклонение | AD4: прогноз, в тыс. руб. | AE4: факт, в тыс. руб. | AF4: отклонение
A5: 1 | B5: 2 | R5: 3 | S5: 4 | T5: 5=(4-3)/3*100 | U5: 6 | V5: 7 | W5: 8=(7-6)/6*100 | X5: 9 | Y5: 10 | Z5: 11=(10-9)/9*100 | AA5: 12 | AB5: 13 | AC5: 14=(13-12)/12*100 | AD5: 15 | AE5: 16 | AF5: 17=(16-15)/15*100 | AG5: 18=(5+8+17)/9 | AH5: 19
A6: {=VLOOKUP(B6,'1.1'!$B$5:$V$89,21,FALSE)} -> 1 | B6: УФК ПО РЕСПУБЛИКЕ АДЫГЕЯ | C6: 4072550 | D6: 7719392.9 | E6: 7719392.9 | F6: 888292.66 | G6: 3919171.8 | H6: 3964171.8 | I6: 0 | J6: 0 | K6: 0 | L6: 0 | M6: 0 | N6: 0 | O6: 436000 | P6: 0 | Q6: 1044242.3 | R6: 19511.336 | S6: 20387.185 | T6: =(S6-R6)/R6 -> 0.044889252 | U6: 8771.6363 | V6: 6924.8115 | W6: =(V6-U6)/U6 -> -0.21054507 | X6: 0 | Y6: 0 | Z6: =IF(AND(X6=0,Y6>0),Y6/1,IF(AND(Y6=0,X6=0),0,Y6/X6)) -> 0 | AA6: 0 | AB6: 0 | AC6: =IFERROR((AB6-AA6)/AA6,0) -> 0 | AD6: 1480.2423 | AE6: 1480.2423 | AF6: =(AE6-AD6)/AD6 -> 2.7022604e-08 | AG6: =(T6+W6+AF6)/9 -> -0.018406199 | AH6: =IF(OR(AG6>10%,AG6<-10%),0,1) -> 1
A7: {=VLOOKUP(B7,'1.1'!$B$5:$V$89,21,FALSE)} -> 2 | B7: УФК ПО РЕСПУБЛИКЕ АЛТАЙ | C7: 7635490.2 | D7: 7635490.2 | E7: 7637435.5 | F7: 1718172.8 | G7: 2907241.3 | H7: 2866141.3 | I7: 0 | J7: 0 | K7: 0 | L7: 0 | M7: 0 | N7: 0 | O7: 1185376.6 | P7: 0 | Q7: 0 | R7: 22908.416 | S7: 23079.602 | T7: =(S7-R7)/R7 -> 0.0074726179 | U7: 7491.5554 | V7: 8149.1607 | W7: =(V7-U7)/U7 -> 0.087779542 | X7: 0 | Y7: 0 | Z7: =IF(AND(X7=0,Y7>0),Y7/1,IF(AND(Y7=0,X7=0),0,Y7/X7)) -> 0 | AA7: 0 | AB7: 0 | AC7: =IFERROR((AB7-AA7)/AA7,0) -> 0 | AD7: 1185.3766 | AE7: 1744.0311 | AF7: =(AE7-AD7)/AD7 -> 0.47128867 | AG7: =(T7+W7+AF7)/9 -> 0.062948981 | AH7: =IF(OR(AG7>10%,AG7<-10%),0,1) -> 1
A8: {=VLOOKUP(B8,'1.1'!B5:V89,21,FALSE)} -> 3 | B8: УФК ПО РЕСПУБЛИКЕ БАШКОРТОСТАН | C8: 22913331 | D8: 24996831 | E8: 25899997 | F8: 3004515 | G8: 6050467 | H8: 8633812.9 | I8: 0 | J8: 0 | K8: 0 | L8: 0 | M8: 0 | N8: 0 | O8: 35000 | P8: 1000 | Q8: 489695.68 | R8: 73810.159 | S8: 92603.293 | T8: =(S8-R8)/R8 -> 0.25461445 | U8: 17688.795 | V8: 14444.385 | W8: =(V8-U8)/U8 -> -0.18341611 | X8: 0 | Y8: 0 | Z8: =IF(AND(X8=0,Y8>0),Y8/1,IF(AND(Y8=0,X8=0),0,Y8/X8)) -> 0 | AA8: 0 | AB8: 0 | AC8: =IFERROR((AB8-AA8)/AA8,0) -> 0 | AD8: 525.69568 | AE8: 1575.9856 | AF8: =(AE8-AD8)/AD8 -> 1.9979048 | AG8: =(T8+W8+AF8)/9 -> 0.22990035 | AH8: =IF(OR(AG8>10%,AG8<-10%),0,1) -> 0
A9: {=VLOOKUP(B9,'1.1'!$B$5:$V$89,21,FALSE)} -> 4 | B9: УФК ПО РЕСПУБЛИКЕ БУРЯТИЯ | C9: 11857951 | D9: 16669964 | E9: 18405143 | F9: 1432990.4 | G9: 3742303.7 | H9: 3299562 | I9: 0 | J9: 0 | K9: 0 | L9: 0 | M9: 0 | N9: 0 | O9: 75715.99 | P9: 0 | Q9: 0 | R9: 46933.058 | S9: 54037.752 | T9: =(S9-R9)/R9 -> 0.15137932 | U9: 8474.8561 | V9: 9332.8849 | W9: =(V9-U9)/U9 -> 0.10124405 | X9: 0 | Y9: 0 | Z9: =IF(AND(X9=0,Y9>0),Y9/1,IF(AND(Y9=0,X9=0),0,Y9/X9)) -> 0 | AA9: 0 | AB9: 0 | AC9: =IFERROR((AB9-AA9)/AA9,0) -> 0 | AD9: 75.71599 | AE9: 4266.9877 | AF9: =(AE9-AD9)/AD9 -> 55.355173 | AG9: =(T9+W9+AF9)/9 -> 6.178644 | AH9: =IF(OR(AG9>10%,AG9<-10%),0,1) -> 0
A10: {=VLOOKUP(B10,'1.1'!$B$5:$V$89,21,FALSE)} -> 5 | B10: УФК ПО РЕСПУБЛИКЕ ДАГЕСТАН | C10: 4370000 | D10: 17047219 | E10: 52150655 | F10: 6406477.8 | G10: 5000000 | H10: 10033124 | I10: 0 | J10: 0 | K10: 0 | L10: 0 | M10: 0 | N10: 0 | O10: 2737633 | P10: 0 | Q10: 543644.7 | R10: 73567.874 | S10: 77562.644 | T10: =(S10-R10)/R10 -> 0.054300474 | U10: 21439.601 | V10: 25165.149 | W10: =(V10-U10)/U10 -> 0.17376944 | X10: 0 | Y10: 0 | Z10: =IF(AND(X10=0,Y10>0),Y10/1,IF(AND(Y10=0,X10=0),0,Y10/X10)) -> 0 | AA10: 0 | AB10: 0 | AC10: =IFERROR((AB10-AA10)/AA10,0) -> 0 | AD10: 3281.2777 | AE10: 4449.2777 | AF10: =(AE10-AD10)/AD10 -> 0.3559589 | AG10: =(T10+W10+AF10)/9 -> 0.06489209 | AH10: =IF(OR(AG10>10%,AG10<-10%),0,1) -> 1
A11: {=VLOOKUP(B11,'1.1'!$B$5:$V$89,21,FALSE)} -> 6 | B11: УФК ПО РЕСПУБЛИКЕ ИНГУШЕТИЯ | C11: 4544617.8 | D11: 4376500 | E11: 5405079.3 | F11: 2664297.2 | G11: 2384290.2 | H11: 2585878.2 | I11: 0 | J11: 0 | K11: 0 | L11: 0 | M11: 0 | N11: 0 | O11: 3000 | P11: 0 | Q11: 335070.59 | R11: 14326.197 | S11: 15428.186 | T11: =(S11-R11)/R11 -> 0.076921217 | U11: 7634.4657 | V11: 9370.0585 | W11: =(V11-U11)/U11 -> 0.22733651 | X11: 0 | Y11: 0 | Z11: =IF(AND(X11=0,Y11>0),Y11/1,IF(AND(Y11=0,X11=0),0,Y11/X11)) -> 0 | AA11: 0 | AB11: 0 | AC11: =IFERROR((AB11-AA11)/AA11,0) -> 0 | AD11: 338.07059 | AE11: 555.8151 | AF11: =(AE11-AD11)/AD11 -> 0.64408001 | AG11: =(T11+W11+AF11)/9 -> 0.10537086 | AH11: =IF(OR(AG11>10%,AG11<-10%),0,1) -> 0
A12: {=VLOOKUP(B12,'1.1'!$B$5:$V$89,21,FALSE)} -> 7 | B12: УФК ПО КАБАРДИНО-БАЛКАРСКОЙ РЕСПУБЛИКЕ | C12: 6685845 | D12: 5586790 | E12: 7699646.7 | F12: 1520031.8 | G12: 1405178 | H12: 1379773.5 | I12: 0 | J12: 0 | K12: 0 | L12: 0 | M12: 0 | N12: 0 | O12: 3166317 | P12: 0 | Q12: 3166318 | R12: 19972.282 | S12: 32516.536 | T12: =(S12-R12)/R12 -> 0.6280832 | U12: 4304.9833 | V12: 7853.6786 | W12: =(V12-U12)/U12 -> 0.82432265 | X12: 0 | Y12: 0 | Z12: =IF(AND(X12=0,Y12>0),Y12/1,IF(AND(Y12=0,X12=0),0,Y12/X12)) -> 0 | AA12: 0 | AB12: 0 | AC12: =IFERROR((AB12-AA12)/AA12,0) -> 0 | AD12: 6332.635 | AE12: 3686.258 | AF12: =(AE12-AD12)/AD12 -> -0.41789508 | AG12: =(T12+W12+AF12)/9 -> 0.11494564 | AH12: =IF(OR(AG12>10%,AG12<-10%),0,1) -> 0
A13: {=VLOOKUP(B13,'1.1'!$B$5:$V$89,21,FALSE)} -> 8 | B13: УФК ПО РЕСПУБЛИКЕ КАЛМЫКИЯ | C13: 3737331 | D13: 7838039.6 | E13: 7753651.5 | F13: 2652032.6 | G13: 2285141.8 | H13: 2195741.8 | I13: 0 | J13: 0 | K13: 0 | L13: 0 | M13: 0 | N13: 0 | O13: 0 | P13: 0 | Q13: 485168.95 | R13: 19329.022 | S13: 17402.736 | T13: =(S13-R13)/R13 -> -0.099657707 | U13: 7132.9161 | V13: 9505.2843 | W13: =(V13-U13)/U13 -> 0.33259443 | X13: 0 | Y13: 16.5737 | Z13: =IF(AND(X13=0,Y13>0),Y13/1,IF(AND(Y13=0,X13=0),0,Y13/X13)) -> 16.5737 | AA13: 0 | AB13: 0 | AC13: =IFERROR((AB13-AA13)/AA13,0) -> 0 | AD13: 485.16895 | AE13: 624.8549 | AF13: =(AE13-AD13)/AD13 -> 0.28791197 | AG13: =(T13+W13+AF13)/9 -> 0.057872078 | AH13: =IF(OR(AG13>10%,AG13<-10%),0,1) -> 1
A14: {=VLOOKUP(B14,'1.1'!$B$5:$V$89,21,FALSE)} -> 9 | B14: УФК ПО КАРАЧАЕВО-ЧЕРКЕССКОЙ РЕСПУБЛИКЕ | C14: 8591182.9 | D14: 8591182.9 | E14: 8591182.9 | F14: 6123142.1 | G14: 6010042.1 | H14: 6010042.1 | I14: 0 | J14: 0 | K14: 0 | L14: 0 | M14: 0 | N14: 0 | O14: 0 | P14: 0 | Q14: 303773 | R14: 25773.549 | S14: 27265.93 | T14: =(S14-R14)/R14 -> 0.057903604 | U14: 18143.226 | V14: 35461.198 | W14: =(V14-U14)/U14 -> 0.95451444 | X14: 0 | Y14: 0 | Z14: =IF(AND(X14=0,Y14>0),Y14/1,IF(AND(Y14=0,X14=0),0,Y14/X14)) -> 0 | AA14: 0 | AB14: 0 | AC14: =IFERROR((AB14-AA14)/AA14,0) -> 0 | AD14: 303.773 | AE14: 737.947 | AF14: =(AE14-AD14)/AD14 -> 1.4292712 | AG14: =(T14+W14+AF14)/9 -> 0.27129881 | AH14: =IF(OR(AG14>10%,AG14<-10%),0,1) -> 0
